BEGIN:VCALENDAR
PRODID:-//PUBBLE//agenda//NL
VERSION:2.0
METHOD:PUBLISH
BEGIN:VEVENT
DTSTART:20260701T180000Z
DTEND:20260701T200000Z
DTSTAMP:20260424T164938Z
UID:824e53f4-62cc-4570-9a03-60e57b834595
CREATED:20260424T164938Z
NAME:Vipassayana (Lhag Thong) mooibernheze.nl
X-WR-CALNAME:Vipassayana (Lhag Thong)
X-ALT-DESC;FMTTYPE=text/html:<a href='/agenda/2026/7/1/vipassayana-lhag-thong--75099'>/agenda/2026/7/1/vipassayana-lhag-thong--75099</a> || <p>Twee-wekelijkse praktijk op woensdagavond in de Tibetaans Boeddhistische Tempel Karma Eusel Ling onder leiding van Lama Karma Tcheudjoeng. Data en tijden altijd even telefonisch checken</p><p>Vipassayana, of inzichtmeditatie, is een boeddhistische meditatievorm die vooral in de zuidelijke landen van Azië wordt beoefend en waarbij het ontwikkelen van opmerkzaamheid centraal staat. Doel van de meditatie is leren observeren wat er hier-en-nu in je eigen lichaam en geest gebeurt. Dit zonder te veroordelen of beoordelen van wat je waarneemt. Hier in het Westen, wordt ook veel les gegeven in mindfulness waarbij je ook heel bewust in het hier-en-nu verblijven beoefent. Deze mindfulness trainingen zijn afgeleid van de boeddhistische Vipassyana meditatie die in ons centrum wordt gegeven. Wil je kennismaken met de originele leer vanuit het boeddhisme, neem dan contact op met Lama Karma Tsultrim. Zij begeleidt deze meditatievorm en vertaalt de boeddhistische leer naar begrijpelijke taal.</p><p>Meer informatie vind je op <a href="//www.karmaeuselling.nl">www.karmaeuselling.nl</a>.</p>
DESCRIPTION:<a href='/agenda/2026/7/1/vipassayana-lhag-thong--75099'>/agenda/2026/7/1/vipassayana-lhag-thong--75099</a> || <p>Twee-wekelijkse praktijk op woensdagavond in de Tibetaans Boeddhistische Tempel Karma Eusel Ling onder leiding van Lama Karma Tcheudjoeng. Data en tijden altijd even telefonisch checken</p><p>Vipassayana, of inzichtmeditatie, is een boeddhistische meditatievorm die vooral in de zuidelijke landen van Azië wordt beoefend en waarbij het ontwikkelen van opmerkzaamheid centraal staat. Doel van de meditatie is leren observeren wat er hier-en-nu in je eigen lichaam en geest gebeurt. Dit zonder te veroordelen of beoordelen van wat je waarneemt. Hier in het Westen, wordt ook veel les gegeven in mindfulness waarbij je ook heel bewust in het hier-en-nu verblijven beoefent. Deze mindfulness trainingen zijn afgeleid van de boeddhistische Vipassyana meditatie die in ons centrum wordt gegeven. Wil je kennismaken met de originele leer vanuit het boeddhisme, neem dan contact op met Lama Karma Tsultrim. Zij begeleidt deze meditatievorm en vertaalt de boeddhistische leer naar begrijpelijke taal.</p><p>Meer informatie vind je op <a href="//www.karmaeuselling.nl">www.karmaeuselling.nl</a>.</p>
LAST-MODIFIED:20260424T164938Z
LOCATION: Tibetaans Boeddhistische Tempel Karma Eusel Ling Vorstenbosch  | Heuvel 1 Vorstenbosch
SEQUENCE:0
STATUS:CONFIRMED
SUMMARY:Vipassayana (Lhag Thong)
TRANSP:OPAQUE
END:VEVENT
END:VCALENDAR
