BEGIN:VCALENDAR
PRODID:-//PUBBLE//agenda//NL
VERSION:2.0
METHOD:PUBLISH
BEGIN:VEVENT
DTSTART:20260424T110358Z
DTEND:20260503T110000Z
DTSTAMP:20260424T125423Z
UID:e13644fd-b9b4-4393-be80-5abeff60c031
CREATED:20260424T125423Z
NAME:Kom jij vandaag ook naar CC Servaes? mooibernheze.nl
X-WR-CALNAME:Kom jij vandaag ook naar CC Servaes?
X-ALT-DESC;FMTTYPE=text/html:<a href='/agenda/2026/5/3/kom-jij-vandaag-ook-naar-cc-servaes--77950'>/agenda/2026/5/3/kom-jij-vandaag-ook-naar-cc-servaes--77950</a> || <p>12:00 tot 13:00 uur RK Locatie Koffie</p>
DESCRIPTION:<a href='/agenda/2026/5/3/kom-jij-vandaag-ook-naar-cc-servaes--77950'>/agenda/2026/5/3/kom-jij-vandaag-ook-naar-cc-servaes--77950</a> || <p>12:00 tot 13:00 uur RK Locatie Koffie</p>
LAST-MODIFIED:20260424T125423Z
LOCATION: CC Servaes | Raadhuisplein 24 Heeswijk-Dinther
SEQUENCE:0
STATUS:CONFIRMED
SUMMARY:Kom jij vandaag ook naar CC Servaes?
TRANSP:OPAQUE
END:VEVENT
END:VCALENDAR
