BEGIN:VCALENDAR
PRODID:-//PUBBLE//agenda//NL
VERSION:2.0
METHOD:PUBLISH
BEGIN:VEVENT
DTSTART:20260424T110328Z
DTEND:20260502T120000Z
DTSTAMP:20260424T124751Z
UID:248f721a-ae93-4267-a70e-a044f09cd1c2
CREATED:20260424T124751Z
NAME:Kom jij vandaag ook naar CC Servaes? mooibernheze.nl
X-WR-CALNAME:Kom jij vandaag ook naar CC Servaes?
X-ALT-DESC;FMTTYPE=text/html:<a href='/agenda/2026/5/2/kom-jij-vandaag-ook-naar-cc-servaes--77949'>/agenda/2026/5/2/kom-jij-vandaag-ook-naar-cc-servaes--77949</a> || <p>12:00 tot 14:00 uur Sing &amp; Joy</p>
DESCRIPTION:<a href='/agenda/2026/5/2/kom-jij-vandaag-ook-naar-cc-servaes--77949'>/agenda/2026/5/2/kom-jij-vandaag-ook-naar-cc-servaes--77949</a> || <p>12:00 tot 14:00 uur Sing &amp; Joy</p>
LAST-MODIFIED:20260424T124751Z
LOCATION: CC Servaes | Raadhuisplein 24 Heeswijk-Dinther
SEQUENCE:0
STATUS:CONFIRMED
SUMMARY:Kom jij vandaag ook naar CC Servaes?
TRANSP:OPAQUE
END:VEVENT
END:VCALENDAR
