BEGIN:VCALENDAR
PRODID:-//PUBBLE//agenda//NL
VERSION:2.0
METHOD:PUBLISH
BEGIN:VEVENT
DTSTART:20260424T110253Z
DTEND:20260501T210000Z
DTSTAMP:20260424T124635Z
UID:76d678d1-1bc5-41c0-a978-075fd9211cd9
CREATED:20260424T124635Z
NAME:Kom jij vandaag ook naar CC Servaes? mooibernheze.nl
X-WR-CALNAME:Kom jij vandaag ook naar CC Servaes?
X-ALT-DESC;FMTTYPE=text/html:<a href='/agenda/2026/5/1/kom-jij-vandaag-ook-naar-cc-servaes--77948'>/agenda/2026/5/1/kom-jij-vandaag-ook-naar-cc-servaes--77948</a> || <p>13:00 tot 15:00 uur Senioren HD Countrydans<br />13:00 tot 17:00 uur DIO biljarten<br />19:30 tot 22:00 uur Senioren HD Kaarten<br />20:00 tot 22:00 uur Vocalgroup Shine<br />20:00 tot 23:00 uur ccServaes Vrij Biljarten</p>
DESCRIPTION:<a href='/agenda/2026/5/1/kom-jij-vandaag-ook-naar-cc-servaes--77948'>/agenda/2026/5/1/kom-jij-vandaag-ook-naar-cc-servaes--77948</a> || <p>13:00 tot 15:00 uur Senioren HD Countrydans<br />13:00 tot 17:00 uur DIO biljarten<br />19:30 tot 22:00 uur Senioren HD Kaarten<br />20:00 tot 22:00 uur Vocalgroup Shine<br />20:00 tot 23:00 uur ccServaes Vrij Biljarten</p>
LAST-MODIFIED:20260424T124635Z
LOCATION: CC Servaes | Raadhuisplein 24 Heeswijk-Dinther
SEQUENCE:0
STATUS:CONFIRMED
SUMMARY:Kom jij vandaag ook naar CC Servaes?
TRANSP:OPAQUE
END:VEVENT
END:VCALENDAR
