BEGIN:VCALENDAR
PRODID:-//PUBBLE//agenda//NL
VERSION:2.0
METHOD:PUBLISH
BEGIN:VEVENT
DTSTART:20260424T110159Z
DTEND:20260430T200000Z
DTSTAMP:20260424T125455Z
UID:756b0cb5-1ed9-4eb9-844d-19ae21611c94
CREATED:20260424T125455Z
NAME:Kom jij vandaag ook naar CC Servaes? mooibernheze.nl
X-WR-CALNAME:Kom jij vandaag ook naar CC Servaes?
X-ALT-DESC;FMTTYPE=text/html:<a href='/agenda/2026/4/30/kom-jij-vandaag-ook-naar-cc-servaes--77947'>/agenda/2026/4/30/kom-jij-vandaag-ook-naar-cc-servaes--77947</a> || <p>09:00 tot 10:00 uur Sine Cura Gym<br />10:00 tot 10:30 uur Senioren HD wandelaars<br />10:00 tot 11:00 uur Stretch en relax<br />13:00 tot 17:00 uur ccServaes Vrij Biljarten<br />13:00 tot 17:00 uur Ontmoetingsmiddag<br />14:00 tot 16:00 uur Senioren HD Bloemschikken<br />18:30 tot 19:30 uur Senioren HD Volksdansen<br />19:00 tot 21:00 uur Stg.RK Kerkgebouw<br />19:00 tot 21:00 uur Sine Cura Gym<br />19:00 tot 23:00 uur ccServaes Vrij Biljarten<br />20:00 tot 22:00 uur Biljartvereniging Royal</p>
DESCRIPTION:<a href='/agenda/2026/4/30/kom-jij-vandaag-ook-naar-cc-servaes--77947'>/agenda/2026/4/30/kom-jij-vandaag-ook-naar-cc-servaes--77947</a> || <p>09:00 tot 10:00 uur Sine Cura Gym<br />10:00 tot 10:30 uur Senioren HD wandelaars<br />10:00 tot 11:00 uur Stretch en relax<br />13:00 tot 17:00 uur ccServaes Vrij Biljarten<br />13:00 tot 17:00 uur Ontmoetingsmiddag<br />14:00 tot 16:00 uur Senioren HD Bloemschikken<br />18:30 tot 19:30 uur Senioren HD Volksdansen<br />19:00 tot 21:00 uur Stg.RK Kerkgebouw<br />19:00 tot 21:00 uur Sine Cura Gym<br />19:00 tot 23:00 uur ccServaes Vrij Biljarten<br />20:00 tot 22:00 uur Biljartvereniging Royal</p>
LAST-MODIFIED:20260424T125455Z
LOCATION: CC Servaes | Raadhuisplein 24 Heeswijk-Dinther
SEQUENCE:0
STATUS:CONFIRMED
SUMMARY:Kom jij vandaag ook naar CC Servaes?
TRANSP:OPAQUE
END:VEVENT
END:VCALENDAR
