BEGIN:VCALENDAR
PRODID:-//PUBBLE//agenda//NL
VERSION:2.0
METHOD:PUBLISH
BEGIN:VEVENT
DTSTART:20260424T110101Z
DTEND:20260429T203000Z
DTSTAMP:20260424T124942Z
UID:7965d89c-2232-4b5d-b347-095cec76e08c
CREATED:20260424T124942Z
NAME:Kom jij vandaag ook naar CC Servaes? mooibernheze.nl
X-WR-CALNAME:Kom jij vandaag ook naar CC Servaes?
X-ALT-DESC;FMTTYPE=text/html:<a href='/agenda/2026/4/29/kom-jij-vandaag-ook-naar-cc-servaes--77946'>/agenda/2026/4/29/kom-jij-vandaag-ook-naar-cc-servaes--77946</a> || <p>09:30 tot 10:00 uur MTC Bernheze<br />09:30 tot 10:30 uur Senioren HD Engelse les<br />13:00 tot 17:00 uur DIO biljarten<br />16:00 tot 16:30 uur ST Barbaragilde<br />18:30 tot 19:30 uur Stretch en relax<br />19:00 tot 23:00 uur ccServaes Vrij Biljarten<br />19:30 tot 21:30 uur cc Servaes -Imeet<br />20:00 tot 22:00 uur ccServaes naaiclubje<br />20:30 tot 22:00 uur De Bokkebloazers<br />20:30 tot 22:30 uur RK Amicantokoor</p>
DESCRIPTION:<a href='/agenda/2026/4/29/kom-jij-vandaag-ook-naar-cc-servaes--77946'>/agenda/2026/4/29/kom-jij-vandaag-ook-naar-cc-servaes--77946</a> || <p>09:30 tot 10:00 uur MTC Bernheze<br />09:30 tot 10:30 uur Senioren HD Engelse les<br />13:00 tot 17:00 uur DIO biljarten<br />16:00 tot 16:30 uur ST Barbaragilde<br />18:30 tot 19:30 uur Stretch en relax<br />19:00 tot 23:00 uur ccServaes Vrij Biljarten<br />19:30 tot 21:30 uur cc Servaes -Imeet<br />20:00 tot 22:00 uur ccServaes naaiclubje<br />20:30 tot 22:00 uur De Bokkebloazers<br />20:30 tot 22:30 uur RK Amicantokoor</p>
LAST-MODIFIED:20260424T124942Z
LOCATION: CC Servaes | Raadhuisplein 24 Heeswijk-Dinther
SEQUENCE:0
STATUS:CONFIRMED
SUMMARY:Kom jij vandaag ook naar CC Servaes?
TRANSP:OPAQUE
END:VEVENT
END:VCALENDAR
