BEGIN:VCALENDAR
PRODID:-//PUBBLE//agenda//NL
VERSION:2.0
METHOD:PUBLISH
BEGIN:VEVENT
DTSTART:20260424T110013Z
DTEND:20260428T193000Z
DTSTAMP:20260424T124948Z
UID:a022c0f2-3d3c-4afd-94b6-bd35e35b1058
CREATED:20260424T124948Z
NAME:Kom jij vandaag ook naar CC Servaes? mooibernheze.nl
X-WR-CALNAME:Kom jij vandaag ook naar CC Servaes?
X-ALT-DESC;FMTTYPE=text/html:<a href='/agenda/2026/4/28/kom-jij-vandaag-ook-naar-cc-servaes--77945'>/agenda/2026/4/28/kom-jij-vandaag-ook-naar-cc-servaes--77945</a> || <p>10:00 tot 11:00 uur Senioren HD wandelaars<br />10:00 tot 12:00 uur Senioren HD Cantandokoor<br />10:00 tot 12:00 uur Senioren HD De Oudere Garde<br />13:00 tot 17:00 uur DIO biljarten<br />13:30 tot 16:00 uur Senioren HD Koersbal<br />19:00 tot 20:00 uur RK secretariaat<br />19:00 tot 23:00 uur ccServaes Vrij Biljarten<br />20:00 tot 21:30 uur Muziekgroep La Banda</p>
DESCRIPTION:<a href='/agenda/2026/4/28/kom-jij-vandaag-ook-naar-cc-servaes--77945'>/agenda/2026/4/28/kom-jij-vandaag-ook-naar-cc-servaes--77945</a> || <p>10:00 tot 11:00 uur Senioren HD wandelaars<br />10:00 tot 12:00 uur Senioren HD Cantandokoor<br />10:00 tot 12:00 uur Senioren HD De Oudere Garde<br />13:00 tot 17:00 uur DIO biljarten<br />13:30 tot 16:00 uur Senioren HD Koersbal<br />19:00 tot 20:00 uur RK secretariaat<br />19:00 tot 23:00 uur ccServaes Vrij Biljarten<br />20:00 tot 21:30 uur Muziekgroep La Banda</p>
LAST-MODIFIED:20260424T124948Z
LOCATION: CC Servaes | Raadhuisplein 24 Heeswijk-Dinther
SEQUENCE:0
STATUS:CONFIRMED
SUMMARY:Kom jij vandaag ook naar CC Servaes?
TRANSP:OPAQUE
END:VEVENT
END:VCALENDAR
