BEGIN:VCALENDAR
PRODID:-//PUBBLE//agenda//NL
VERSION:2.0
METHOD:PUBLISH
BEGIN:VEVENT
DTSTART:20260420T122647Z
DTEND:20260420T132647Z
DTSTAMP:20260424T143842Z
UID:96f20e9a-8064-4c7c-9d0c-a456d8483ed5
CREATED:20260424T143842Z
NAME:Lezing Weet wat je eet mooibernheze.nl
X-WR-CALNAME:Lezing Weet wat je eet
X-ALT-DESC;FMTTYPE=text/html:<a href='/agenda/2026/7/6/lezing-weet-wat-je-eet-77919'>/agenda/2026/7/6/lezing-weet-wat-je-eet-77919</a> || <p>Vandaag een boeiende lezing door VitaalKracht &amp; Alotz over voeding en supplementen. Wat zijn de verschillen? Preventief met jouw gezondheid bezig zijn is vandaag de dag essentieel. Etiketten leren lezen en bewustwording over gezonde voeding en leefstijl. VitaalKracht is een gezondheidscentrum in Nistelrode. Om aan te melden ga je <a href="https://vitaalkracht.nl/" rel="noopener noreferrer" target="_blank">hiernaartoe....</a></p>
DESCRIPTION:<a href='/agenda/2026/7/6/lezing-weet-wat-je-eet-77919'>/agenda/2026/7/6/lezing-weet-wat-je-eet-77919</a> || <p>Vandaag een boeiende lezing door VitaalKracht &amp; Alotz over voeding en supplementen. Wat zijn de verschillen? Preventief met jouw gezondheid bezig zijn is vandaag de dag essentieel. Etiketten leren lezen en bewustwording over gezonde voeding en leefstijl. VitaalKracht is een gezondheidscentrum in Nistelrode. Om aan te melden ga je <a href="https://vitaalkracht.nl/" rel="noopener noreferrer" target="_blank">hiernaartoe....</a></p>
LAST-MODIFIED:20260424T143842Z
LOCATION: Vitaalkracht | Kerkveld 67 Nistelrode
SEQUENCE:0
STATUS:CONFIRMED
SUMMARY:Lezing Weet wat je eet
TRANSP:OPAQUE
END:VEVENT
END:VCALENDAR
