BEGIN:VCALENDAR
PRODID:-//PUBBLE//agenda//NL
VERSION:2.0
METHOD:PUBLISH
BEGIN:VEVENT
DTSTART:20260420T122200Z
DTEND:20260420T132200Z
DTSTAMP:20260424T143031Z
UID:1dd3aad3-703f-4b14-8b0d-f4de4d670826
CREATED:20260424T143031Z
NAME:Lezing Weet wat je eet mooibernheze.nl
X-WR-CALNAME:Lezing Weet wat je eet
X-ALT-DESC;FMTTYPE=text/html:<a href='/agenda/2026/6/17/lezing-weet-wat-je-eet-77916'>/agenda/2026/6/17/lezing-weet-wat-je-eet-77916</a> || <p>Vandaag een boeiende lezing door VitaalKracht &amp; Alotz over voeding en supplementen. Wat zijn de verschillen? Preventief met jouw gezondheid bezig zijn is vandaag de dag essentieel. Etiketten leren lezen en bewustwording over gezonde voeding en leefstijl. VitaalKracht is een gezondheidscentrum in Nistelrode. Om aan te melden ga je <a href="https://vitaalkracht.nl/" rel="noopener noreferrer" target="_blank">hiernaartoe....</a></p>
DESCRIPTION:<a href='/agenda/2026/6/17/lezing-weet-wat-je-eet-77916'>/agenda/2026/6/17/lezing-weet-wat-je-eet-77916</a> || <p>Vandaag een boeiende lezing door VitaalKracht &amp; Alotz over voeding en supplementen. Wat zijn de verschillen? Preventief met jouw gezondheid bezig zijn is vandaag de dag essentieel. Etiketten leren lezen en bewustwording over gezonde voeding en leefstijl. VitaalKracht is een gezondheidscentrum in Nistelrode. Om aan te melden ga je <a href="https://vitaalkracht.nl/" rel="noopener noreferrer" target="_blank">hiernaartoe....</a></p>
LAST-MODIFIED:20260424T143031Z
LOCATION: Vitaalkracht | Kerkveld 67 Nistelrode
SEQUENCE:0
STATUS:CONFIRMED
SUMMARY:Lezing Weet wat je eet
TRANSP:OPAQUE
END:VEVENT
END:VCALENDAR
