BEGIN:VCALENDAR
PRODID:-//PUBBLE//agenda//NL
VERSION:2.0
METHOD:PUBLISH
BEGIN:VEVENT
DTSTART:20260420T121931Z
DTEND:20260529T150000Z
DTSTAMP:20260424T112328Z
UID:61625d7e-9d65-4431-b2a6-3133a9c50ed6
CREATED:20260424T112328Z
NAME:Open dag en officiële opening VitaalKracht mooibernheze.nl
X-WR-CALNAME:Open dag en officiële opening VitaalKracht
X-ALT-DESC;FMTTYPE=text/html:<a href='/agenda/2026/5/28/open-dag-en-officiele-opening-vitaalkracht-77914'>/agenda/2026/5/28/open-dag-en-officiele-opening-vitaalkracht-77914</a> || <p>Voel je van harte welkom op onze open dagen bij VitaalKracht. Kom de mens achter VitaalKracht persoonlijk leren kennen. We delen met passie onze visie en missie: mensen en organisaties op een complete, natuurlijke manier vitaler en veerkrachtiger maken via Preventie, Herstel en Groei.</p><p>Tijdens de open dag geven we een heldere uitleg en kun je optioneel meedoen met een korte, praktische workshop. Geen verkooppraatje, maar een open gesprek. Kom binnen voor een kop koffie of thee, stel je vragen en ervaar onze kennis uit de praktijk.</p><p>Je bent van harte welkom – of je nu wilt voorkomen, herstellen of groeien in vitaliteit. We kijken ernaar uit om jou te ontmoeten!</p><p>Tot snel bij VitaalKracht.</p>
DESCRIPTION:<a href='/agenda/2026/5/28/open-dag-en-officiele-opening-vitaalkracht-77914'>/agenda/2026/5/28/open-dag-en-officiele-opening-vitaalkracht-77914</a> || <p>Voel je van harte welkom op onze open dagen bij VitaalKracht. Kom de mens achter VitaalKracht persoonlijk leren kennen. We delen met passie onze visie en missie: mensen en organisaties op een complete, natuurlijke manier vitaler en veerkrachtiger maken via Preventie, Herstel en Groei.</p><p>Tijdens de open dag geven we een heldere uitleg en kun je optioneel meedoen met een korte, praktische workshop. Geen verkooppraatje, maar een open gesprek. Kom binnen voor een kop koffie of thee, stel je vragen en ervaar onze kennis uit de praktijk.</p><p>Je bent van harte welkom – of je nu wilt voorkomen, herstellen of groeien in vitaliteit. We kijken ernaar uit om jou te ontmoeten!</p><p>Tot snel bij VitaalKracht.</p>
LAST-MODIFIED:20260424T112328Z
LOCATION: Vitaalkracht | Kerkveld 67 Nistelrode
SEQUENCE:0
STATUS:CONFIRMED
SUMMARY:Open dag en officiële opening VitaalKracht
TRANSP:OPAQUE
END:VEVENT
END:VCALENDAR
