BEGIN:VCALENDAR
PRODID:-//PUBBLE//agenda//NL
VERSION:2.0
METHOD:PUBLISH
BEGIN:VEVENT
DTSTART:20260520T173000Z
DTEND:20260520T183000Z
DTSTAMP:20260424T124809Z
UID:160e388b-3eba-4909-b597-c9759128f08b
CREATED:20260424T124809Z
NAME:Lezing Weet wat je eet mooibernheze.nl
X-WR-CALNAME:Lezing Weet wat je eet
X-ALT-DESC;FMTTYPE=text/html:<a href='/agenda/2026/5/20/lezing-weet-wat-je-eet-77912'>/agenda/2026/5/20/lezing-weet-wat-je-eet-77912</a> || <p>Vandaag een boeiende lezing door VitaalKracht &amp; Alotz over voeding en supplementen. Wat zijn de verschillen? Preventief met jouw gezondheid bezig zijn is vandaag de dag essentieel. Etiketten leren lezen en bewustwording over gezonde voeding en leefstijl. VitaalKracht is een gezondheidscentrum in Nistelrode. Om aan te melden ga je <a href="https://vitaalkracht.nl/" rel="noopener noreferrer" target="_blank">hiernaartoe....</a></p>
DESCRIPTION:<a href='/agenda/2026/5/20/lezing-weet-wat-je-eet-77912'>/agenda/2026/5/20/lezing-weet-wat-je-eet-77912</a> || <p>Vandaag een boeiende lezing door VitaalKracht &amp; Alotz over voeding en supplementen. Wat zijn de verschillen? Preventief met jouw gezondheid bezig zijn is vandaag de dag essentieel. Etiketten leren lezen en bewustwording over gezonde voeding en leefstijl. VitaalKracht is een gezondheidscentrum in Nistelrode. Om aan te melden ga je <a href="https://vitaalkracht.nl/" rel="noopener noreferrer" target="_blank">hiernaartoe....</a></p>
LAST-MODIFIED:20260424T124809Z
LOCATION: Vitaalkracht | Kerkveld 67 Nistelrode
SEQUENCE:0
STATUS:CONFIRMED
SUMMARY:Lezing Weet wat je eet
TRANSP:OPAQUE
END:VEVENT
END:VCALENDAR
