BEGIN:VCALENDAR
PRODID:-//PUBBLE//agenda//NL
VERSION:2.0
METHOD:PUBLISH
BEGIN:VEVENT
DTSTART:20260420T091517Z
DTEND:20260420T101517Z
DTSTAMP:20260424T112338Z
UID:d0b04cf2-ea77-49fe-9b73-ce9f2cd8ad6e
CREATED:20260424T112338Z
NAME:Koningsdag in Bernheze: Heeswijk-Dinther mooibernheze.nl
X-WR-CALNAME:Koningsdag in Bernheze: Heeswijk-Dinther
X-ALT-DESC;FMTTYPE=text/html:<a href='/agenda/2026/4/27/koningsdag-in-bernheze-heeswijk-dinther-77891'>/agenda/2026/4/27/koningsdag-in-bernheze-heeswijk-dinther-77891</a> || <p>HEESWIJK-DINTHER - Het Oranjecomité Heeswijk-Dinther organiseert weer een fantastische Koningsdag met activiteiten voor jong en oud. Doe jij mee?<br><br>10.00 uur - versierde optocht<br>Sluit jij ook aan met je versierde fiets, step, bolderkar of skelter? Vertrek vanuit het kerkplein Heeswijk en kerkplein Dinther om 10.10 uur richting Plein 1969, onder begeleiding van de gildes en muziekkorpsen.</p><p>10.30 uur - aubade<br>Het officiële gedeelte van Koningsdag, met onze gedecoreerden en afvaardiging van burgemeester en wethouders. De gedecoreerden hebben van de gemeente een uitnodiging ontvangen voor een bijeenkomst bij Naast. Inschrijving middels deze brief is vereist. </p><p>13.30 uur - fietstocht<br>Een mooie fietstocht van ongeveer 35 kilometer met één geplande pauzeplek, waar je wordt voorzien van koffie of thee. De route kost € 3,50 en is te koop op Plein 1969.</p><p>13.30 tot 17.00 uur - spellenmiddag<br>Plein 1969 wordt omgetoverd tot een plein vol leuke spelletjes, springkussens, workshops van het Sint-Willebrordusgilde Heeswijk en stormbanen voor de kinderen. Spelkaarten kosten € 3,50 en zijn te koop op Plein 1969. De hele middag is het gezellig vertoeven op het terras van Naast en deBAR en geniet je van dansoptredens op het podium. </p><p>Kindervrijmarkt<br>Kinderen van de basisschool mogen hier hun spulletjes verkopen tegen aantrekkelijke prijzen. Wat je niet verkoopt, moet je natuurlijk weer mee naar huis nemen. Je mag vanaf 13.00 uur spullen brengen. Auto’s zijn niet toegestaan op het terrein.</p><p>Vrijwilligers<br>Dit alles kan natuurlijk niet georganiseerd worden zonder vrijwilligers. We zijn nog hard op zoek naar vrijwilligers om alle spellen bemand te hebben. Wil je tijdens het middagprogramma je steentje bijdragen? Laat dit dan weten via 06-10153233 of oranjecomiteheeswijkdinther@gmail.com. Het is ook mogelijk om met z’n tweeën ieder een helft van het middagprogramma te helpen. We zijn blij met alle hulp!</p><p>Het Oranjecomité Heeswijk-Dinther wenst jou een fijne Koningsdag toe!</p><p>www.oranjecomite-heeswijkdinther.nl</p>
DESCRIPTION:<a href='/agenda/2026/4/27/koningsdag-in-bernheze-heeswijk-dinther-77891'>/agenda/2026/4/27/koningsdag-in-bernheze-heeswijk-dinther-77891</a> || <p>HEESWIJK-DINTHER - Het Oranjecomité Heeswijk-Dinther organiseert weer een fantastische Koningsdag met activiteiten voor jong en oud. Doe jij mee?<br><br>10.00 uur - versierde optocht<br>Sluit jij ook aan met je versierde fiets, step, bolderkar of skelter? Vertrek vanuit het kerkplein Heeswijk en kerkplein Dinther om 10.10 uur richting Plein 1969, onder begeleiding van de gildes en muziekkorpsen.</p><p>10.30 uur - aubade<br>Het officiële gedeelte van Koningsdag, met onze gedecoreerden en afvaardiging van burgemeester en wethouders. De gedecoreerden hebben van de gemeente een uitnodiging ontvangen voor een bijeenkomst bij Naast. Inschrijving middels deze brief is vereist. </p><p>13.30 uur - fietstocht<br>Een mooie fietstocht van ongeveer 35 kilometer met één geplande pauzeplek, waar je wordt voorzien van koffie of thee. De route kost € 3,50 en is te koop op Plein 1969.</p><p>13.30 tot 17.00 uur - spellenmiddag<br>Plein 1969 wordt omgetoverd tot een plein vol leuke spelletjes, springkussens, workshops van het Sint-Willebrordusgilde Heeswijk en stormbanen voor de kinderen. Spelkaarten kosten € 3,50 en zijn te koop op Plein 1969. De hele middag is het gezellig vertoeven op het terras van Naast en deBAR en geniet je van dansoptredens op het podium. </p><p>Kindervrijmarkt<br>Kinderen van de basisschool mogen hier hun spulletjes verkopen tegen aantrekkelijke prijzen. Wat je niet verkoopt, moet je natuurlijk weer mee naar huis nemen. Je mag vanaf 13.00 uur spullen brengen. Auto’s zijn niet toegestaan op het terrein.</p><p>Vrijwilligers<br>Dit alles kan natuurlijk niet georganiseerd worden zonder vrijwilligers. We zijn nog hard op zoek naar vrijwilligers om alle spellen bemand te hebben. Wil je tijdens het middagprogramma je steentje bijdragen? Laat dit dan weten via 06-10153233 of oranjecomiteheeswijkdinther@gmail.com. Het is ook mogelijk om met z’n tweeën ieder een helft van het middagprogramma te helpen. We zijn blij met alle hulp!</p><p>Het Oranjecomité Heeswijk-Dinther wenst jou een fijne Koningsdag toe!</p><p>www.oranjecomite-heeswijkdinther.nl</p>
LAST-MODIFIED:20260424T112338Z
LOCATION: Plein 1969 | Plein 1969  Heeswijk-Dinther
SEQUENCE:0
STATUS:CONFIRMED
SUMMARY:Koningsdag in Bernheze: Heeswijk-Dinther
TRANSP:OPAQUE
END:VEVENT
END:VCALENDAR
