BEGIN:VCALENDAR
PRODID:-//PUBBLE//agenda//NL
VERSION:2.0
METHOD:PUBLISH
BEGIN:VEVENT
DTSTART:20260420T090454Z
DTEND:20260420T100454Z
DTSTAMP:20260424T124501Z
UID:25467941-5a76-417f-89e5-80c72918c01d
CREATED:20260424T124501Z
NAME:Cultuurkapel Vorstenbosch mooibernheze.nl
X-WR-CALNAME:Cultuurkapel Vorstenbosch
X-ALT-DESC;FMTTYPE=text/html:<a href='/agenda/2026/5/3/cultuurkapel-vorstenbosch-77884'>/agenda/2026/5/3/cultuurkapel-vorstenbosch-77884</a> || <p>VORSTENBOSCH - Laat je meevoeren in een warme, muzikale reis vol herkenning, emotie en prachtige verhalen. In ‘De Weg naar Huis’ brengen Remco van de Weerdt en Michelle Courtens het allermooiste uit het Nederlandstalige luisterlied tot leven.</p><p>Van tijdloze klassiekers van Willeke Alberti, Benny Neyman, Liesbeth List, Rob de Nijs en Ramses Shaffy tot ontroerende eigen liedjes: het wordt een middag die raakt, herinnert en verbindt. Al ruim vijf jaar vormen Remco en Michelle een hecht muzikaal duo. Hun stemmen versmelten in een intiem programma vol warmte en herkenning.</p><p>Michelle Courtens – 25 jaar Songfestival<br>Precies 25 jaar geleden vertegenwoordigde Michelle Nederland op het Eurovisie Songfestival met het nummer Out On My Own. Tijdens deze voorstelling staan Remco en Michelle stil bij dit bijzondere jubileum met een uniek muzikaal moment. Michelle neemt naast haar stem ook haar cello mee, die een extra laag kleur en diepte toevoegt.</p><p>Remco van de Weerdt – verteller in muziek<br>Remco groeide de afgelopen jaren uit tot een gepassioneerd vertolker van het Nederlandstalige luisterlied. Met zijn warme stem en liefde voor het chanson brengt hij liedjes waarin tekst en emotie centraal staan. Naast bekende klassiekers hoor je ook nieuw eigen werk, waaronder liedjes van componist Edwin Schimscheimer.</p><p>Samen met pianist Hubert-Jan Horrocks en achtergrondzanger Jeroen de Beer ontstaat een sfeervolle, bijna theatrale setting waarin duetten, solo’s en persoonlijke verhalen elkaar moeiteloos afwisselen.</p><p>Zondag 3 mei om 15.00 uur, toegang 17,50</p><p>Kaarten via www.cultuurkapel.nl of scan de QR‑code.</p>
DESCRIPTION:<a href='/agenda/2026/5/3/cultuurkapel-vorstenbosch-77884'>/agenda/2026/5/3/cultuurkapel-vorstenbosch-77884</a> || <p>VORSTENBOSCH - Laat je meevoeren in een warme, muzikale reis vol herkenning, emotie en prachtige verhalen. In ‘De Weg naar Huis’ brengen Remco van de Weerdt en Michelle Courtens het allermooiste uit het Nederlandstalige luisterlied tot leven.</p><p>Van tijdloze klassiekers van Willeke Alberti, Benny Neyman, Liesbeth List, Rob de Nijs en Ramses Shaffy tot ontroerende eigen liedjes: het wordt een middag die raakt, herinnert en verbindt. Al ruim vijf jaar vormen Remco en Michelle een hecht muzikaal duo. Hun stemmen versmelten in een intiem programma vol warmte en herkenning.</p><p>Michelle Courtens – 25 jaar Songfestival<br>Precies 25 jaar geleden vertegenwoordigde Michelle Nederland op het Eurovisie Songfestival met het nummer Out On My Own. Tijdens deze voorstelling staan Remco en Michelle stil bij dit bijzondere jubileum met een uniek muzikaal moment. Michelle neemt naast haar stem ook haar cello mee, die een extra laag kleur en diepte toevoegt.</p><p>Remco van de Weerdt – verteller in muziek<br>Remco groeide de afgelopen jaren uit tot een gepassioneerd vertolker van het Nederlandstalige luisterlied. Met zijn warme stem en liefde voor het chanson brengt hij liedjes waarin tekst en emotie centraal staan. Naast bekende klassiekers hoor je ook nieuw eigen werk, waaronder liedjes van componist Edwin Schimscheimer.</p><p>Samen met pianist Hubert-Jan Horrocks en achtergrondzanger Jeroen de Beer ontstaat een sfeervolle, bijna theatrale setting waarin duetten, solo’s en persoonlijke verhalen elkaar moeiteloos afwisselen.</p><p>Zondag 3 mei om 15.00 uur, toegang 17,50</p><p>Kaarten via www.cultuurkapel.nl of scan de QR‑code.</p>
LAST-MODIFIED:20260424T124501Z
LOCATION: Cultuurkapel | Kerkstraat 8 Vorstenbosch
SEQUENCE:0
STATUS:CONFIRMED
SUMMARY:Cultuurkapel Vorstenbosch
TRANSP:OPAQUE
END:VEVENT
END:VCALENDAR
