BEGIN:VCALENDAR
PRODID:-//PUBBLE//agenda//NL
VERSION:2.0
METHOD:PUBLISH
BEGIN:VEVENT
DTSTART:20260420T085934Z
DTEND:20260420T095934Z
DTSTAMP:20260424T125234Z
UID:7b460cda-f0ba-4ac0-8fac-94649a44120e
CREATED:20260424T125234Z
NAME:Filmavond mooibernheze.nl
X-WR-CALNAME:Filmavond
X-ALT-DESC;FMTTYPE=text/html:<a href='/agenda/2026/5/4/filmavond-77882'>/agenda/2026/5/4/filmavond-77882</a> || <p>The Zone of Interest<br />Na Dodenherdenking draait in Welkomcentrum De Pas The Zone of Interest. Een indrukwekkend portret van een nazi-gezin dat naast Auschwitz woont. De film is voor jongeren tot 18 jaar gratis te bezoeken. Maandag 4 mei, vanaf 20.45 uur, € 5,-.</p><p>Meer informatie vind je op <a href="//www.de-pas.nl/agenda">www.de-pas.nl/agenda</a>.</p>
DESCRIPTION:<a href='/agenda/2026/5/4/filmavond-77882'>/agenda/2026/5/4/filmavond-77882</a> || <p>The Zone of Interest<br />Na Dodenherdenking draait in Welkomcentrum De Pas The Zone of Interest. Een indrukwekkend portret van een nazi-gezin dat naast Auschwitz woont. De film is voor jongeren tot 18 jaar gratis te bezoeken. Maandag 4 mei, vanaf 20.45 uur, € 5,-.</p><p>Meer informatie vind je op <a href="//www.de-pas.nl/agenda">www.de-pas.nl/agenda</a>.</p>
LAST-MODIFIED:20260424T125234Z
LOCATION: Welkomcentrum De Pas | De Misse 4 Heesch
SEQUENCE:0
STATUS:CONFIRMED
SUMMARY:Filmavond
TRANSP:OPAQUE
END:VEVENT
END:VCALENDAR
