BEGIN:VCALENDAR
PRODID:-//PUBBLE//agenda//NL
VERSION:2.0
METHOD:PUBLISH
BEGIN:VEVENT
DTSTART:20260420T085826Z
DTEND:20260420T095826Z
DTSTAMP:20260424T124312Z
UID:d033063f-bb5e-417c-94b7-92e8342d9e8f
CREATED:20260424T124312Z
NAME:Sunday Sessions mooibernheze.nl
X-WR-CALNAME:Sunday Sessions
X-ALT-DESC;FMTTYPE=text/html:<a href='/agenda/2026/5/3/sunday-sessions-77880'>/agenda/2026/5/3/sunday-sessions-77880</a> || <p>Sunday Sessions met Roman Huijbreghs<br />Geniet tijdens de Sunday Sessions van Roman Huijbreghs. In Welkomcentrum De Pas brengt hij een intiem solo-optreden vol eigen werk en prachtige covers. Zondag 3 mei, 15.00 uur, de entree is gratis.</p><p>Meer informatie vind je op <a href="//www.de-pas.nl/agenda">www.de-pas.nl/agenda</a>.</p>
DESCRIPTION:<a href='/agenda/2026/5/3/sunday-sessions-77880'>/agenda/2026/5/3/sunday-sessions-77880</a> || <p>Sunday Sessions met Roman Huijbreghs<br />Geniet tijdens de Sunday Sessions van Roman Huijbreghs. In Welkomcentrum De Pas brengt hij een intiem solo-optreden vol eigen werk en prachtige covers. Zondag 3 mei, 15.00 uur, de entree is gratis.</p><p>Meer informatie vind je op <a href="//www.de-pas.nl/agenda">www.de-pas.nl/agenda</a>.</p>
LAST-MODIFIED:20260424T124312Z
LOCATION: Welkomcentrum De Pas | De Misse 4 Heesch
SEQUENCE:0
STATUS:CONFIRMED
SUMMARY:Sunday Sessions
TRANSP:OPAQUE
END:VEVENT
END:VCALENDAR
