BEGIN:VCALENDAR
PRODID:-//PUBBLE//agenda//NL
VERSION:2.0
METHOD:PUBLISH
BEGIN:VEVENT
DTSTART:20260419T214422Z
DTEND:20260419T224422Z
DTSTAMP:20260424T112245Z
UID:c01275b6-12e1-4383-af0f-aeb1b6a3628f
CREATED:20260424T112245Z
NAME:Lezing over Oorlog in het Maasland mooibernheze.nl
X-WR-CALNAME:Lezing over Oorlog in het Maasland
X-ALT-DESC;FMTTYPE=text/html:<a href='/agenda/2026/4/29/lezing-over-oorlog-in-het-maasland-77870'>/agenda/2026/4/29/lezing-over-oorlog-in-het-maasland-77870</a> || <p>HEESWIJK-DINTHER - Heemkundekring De Wojstap organiseert een lezing door Henk Buijks over oorlogen in het Maasland Met de toepasselijke titel ‘Oorlog in het Maasland’. In 2025, 80 jaar na het einde van de Tweede Wereldoorlog, vierde Nederland 80 jaar vrijheid. De 70-plussers, in 2025 een heel eind op weg naar de 80, realiseerden zich dat zij hier nooit oorlog hadden meegemaakt. Zou het voor hen zo blijven? Geen comfortabele vraagstelling anno 2026, met wereldleiders zoals Trump, Poetin en Netanyahu!</p><p>Zeker is wel dat vanaf 1360 tot ongeveer 1850 veel generaties Noordoost-Brabanders werden geconfronteerd met oorlogsgeweld dichtbij, vooral de mensen buiten de ommuurde steden. De Maasdorpen kregen bovendien te maken met overstromingen, want in oorlogstijd werden de dijken niet onderhouden. Niettemin kreeg Oss in 1399 stadsrechten, overigens wel dankzij een jarenlange oorlog met het nabije Gelre!</p><p>Ook Heeswijk en Dinther kregen ongevraagd bezoek van soldaten van elders; in de 16e eeuw onder leiding van de beruchte Maarten van Rossum en in het rampjaar 1672 bivakkeerde de Franse koning Lodewijk XIV enkele dagen in het kasteel van Heeswijk. In oorlogstijd braken ook besmettelijke ziekten uit. Zo noteerde de pastoor van Dinther in oktober 1676: “dissenteria regnat”, de dysenterie heerst. Dysenterie, ofwel rodeloop (een echte soldatenziekte) kostte toen ook duizenden inwoners van Noordoost-Brabant en Limburg het leven.</p><p>Pittige kost dus, maar zeker een bezoek waard. Deze presentatie vindt plaats bij De Wojstap aan het Raadhuisplein 21a op woensdag 29 april om 20.00 uur. Voor leden van Heemkundekring De Wojstap is de lezing gratis. Niet-leden betalen € 3,-.</p>
DESCRIPTION:<a href='/agenda/2026/4/29/lezing-over-oorlog-in-het-maasland-77870'>/agenda/2026/4/29/lezing-over-oorlog-in-het-maasland-77870</a> || <p>HEESWIJK-DINTHER - Heemkundekring De Wojstap organiseert een lezing door Henk Buijks over oorlogen in het Maasland Met de toepasselijke titel ‘Oorlog in het Maasland’. In 2025, 80 jaar na het einde van de Tweede Wereldoorlog, vierde Nederland 80 jaar vrijheid. De 70-plussers, in 2025 een heel eind op weg naar de 80, realiseerden zich dat zij hier nooit oorlog hadden meegemaakt. Zou het voor hen zo blijven? Geen comfortabele vraagstelling anno 2026, met wereldleiders zoals Trump, Poetin en Netanyahu!</p><p>Zeker is wel dat vanaf 1360 tot ongeveer 1850 veel generaties Noordoost-Brabanders werden geconfronteerd met oorlogsgeweld dichtbij, vooral de mensen buiten de ommuurde steden. De Maasdorpen kregen bovendien te maken met overstromingen, want in oorlogstijd werden de dijken niet onderhouden. Niettemin kreeg Oss in 1399 stadsrechten, overigens wel dankzij een jarenlange oorlog met het nabije Gelre!</p><p>Ook Heeswijk en Dinther kregen ongevraagd bezoek van soldaten van elders; in de 16e eeuw onder leiding van de beruchte Maarten van Rossum en in het rampjaar 1672 bivakkeerde de Franse koning Lodewijk XIV enkele dagen in het kasteel van Heeswijk. In oorlogstijd braken ook besmettelijke ziekten uit. Zo noteerde de pastoor van Dinther in oktober 1676: “dissenteria regnat”, de dysenterie heerst. Dysenterie, ofwel rodeloop (een echte soldatenziekte) kostte toen ook duizenden inwoners van Noordoost-Brabant en Limburg het leven.</p><p>Pittige kost dus, maar zeker een bezoek waard. Deze presentatie vindt plaats bij De Wojstap aan het Raadhuisplein 21a op woensdag 29 april om 20.00 uur. Voor leden van Heemkundekring De Wojstap is de lezing gratis. Niet-leden betalen € 3,-.</p>
LAST-MODIFIED:20260424T112245Z
LOCATION: Heemkamer HKK De Wojstap | Raadhuisplein 21a Heeswijk-Dinther
SEQUENCE:0
STATUS:CONFIRMED
SUMMARY:Lezing over Oorlog in het Maasland
TRANSP:OPAQUE
END:VEVENT
END:VCALENDAR
