BEGIN:VCALENDAR
PRODID:-//PUBBLE//agenda//NL
VERSION:2.0
METHOD:PUBLISH
BEGIN:VEVENT
DTSTART:20260419T213818Z
DTEND:20260530T140000Z
DTSTAMP:20260424T125131Z
UID:555f2aab-8d6a-4fa0-a757-eda79d287cb9
CREATED:20260424T125131Z
NAME:Workshop kruidenhapjes bij Kruidenhof Berne mooibernheze.nl
X-WR-CALNAME:Workshop kruidenhapjes bij Kruidenhof Berne
X-ALT-DESC;FMTTYPE=text/html:<a href='/agenda/2026/5/30/workshop-kruidenhapjes-bij-kruidenhof-berne-77865'>/agenda/2026/5/30/workshop-kruidenhapjes-bij-kruidenhof-berne-77865</a> || <p>HEESWIJK-DINTHER - Door de werkgroep Kruidenhof Berne is bij de Abdij van Berne een kruidencirkel aangelegd met als doel de kennis, werking en toepassing van medicinale kruiden over te dragen aan belangstellenden. José van der Heijden-van den Berg (herborist), Kim van Lee en Ria Tips organiseren zaterdag 30 mei een workshop kruidenhapjes.</p><p>We maken samen;<br>-een wilde kruiden bloemenkaas<br>-een kruidenpesto<br>-een wilde kruidenbloemensalade.</p><p>Je leert;<br>-de werking van de kruiden die we gebruiken<br>-hoe je kruiden en wilde planten in de keuken gebruikt.</p><p>Zaterdag 30 mei van 13.00 tot 16.00 uur bij de Kruidenhof Berne aan de Abdijstraat 51 in Heeswijk-Dinther op het terrein van de Abdij van Berne<br>€ 25,- per persoon, vooraf te betalen. Het maximaal aantal deelnemers is acht, dus ben er snel bij, want vol is vol.<br>Wil je meedoen? Meld je dan vóór &nbsp;30 april door en een mail te sturen naar kruidenhofberne@outlook.com onder vermelding van je naam en telefoonnummer.</p><p>Die middag wordt een kruidenthee en een kruidendrankje geschonken.</p>
DESCRIPTION:<a href='/agenda/2026/5/30/workshop-kruidenhapjes-bij-kruidenhof-berne-77865'>/agenda/2026/5/30/workshop-kruidenhapjes-bij-kruidenhof-berne-77865</a> || <p>HEESWIJK-DINTHER - Door de werkgroep Kruidenhof Berne is bij de Abdij van Berne een kruidencirkel aangelegd met als doel de kennis, werking en toepassing van medicinale kruiden over te dragen aan belangstellenden. José van der Heijden-van den Berg (herborist), Kim van Lee en Ria Tips organiseren zaterdag 30 mei een workshop kruidenhapjes.</p><p>We maken samen;<br>-een wilde kruiden bloemenkaas<br>-een kruidenpesto<br>-een wilde kruidenbloemensalade.</p><p>Je leert;<br>-de werking van de kruiden die we gebruiken<br>-hoe je kruiden en wilde planten in de keuken gebruikt.</p><p>Zaterdag 30 mei van 13.00 tot 16.00 uur bij de Kruidenhof Berne aan de Abdijstraat 51 in Heeswijk-Dinther op het terrein van de Abdij van Berne<br>€ 25,- per persoon, vooraf te betalen. Het maximaal aantal deelnemers is acht, dus ben er snel bij, want vol is vol.<br>Wil je meedoen? Meld je dan vóór &nbsp;30 april door en een mail te sturen naar kruidenhofberne@outlook.com onder vermelding van je naam en telefoonnummer.</p><p>Die middag wordt een kruidenthee en een kruidendrankje geschonken.</p>
LAST-MODIFIED:20260424T125131Z
LOCATION: Abdij van Berne | Abdijstraat 49 Heeswijk-Dinther
SEQUENCE:0
STATUS:CONFIRMED
SUMMARY:Workshop kruidenhapjes bij Kruidenhof Berne
TRANSP:OPAQUE
END:VEVENT
END:VCALENDAR
