BEGIN:VCALENDAR
PRODID:-//PUBBLE//agenda//NL
VERSION:2.0
METHOD:PUBLISH
BEGIN:VEVENT
DTSTART:20260419T210435Z
DTEND:20260419T220435Z
DTSTAMP:20260424T124312Z
UID:959cf52f-4632-4db6-b9eb-c67ebb8f9dd4
CREATED:20260424T124312Z
NAME:Aan tafel bij Gerda mooibernheze.nl
X-WR-CALNAME:Aan tafel bij Gerda
X-ALT-DESC;FMTTYPE=text/html:<a href='/agenda/2026/5/6/aan-tafel-bij-gerda-77850'>/agenda/2026/5/6/aan-tafel-bij-gerda-77850</a> || <p>Driegangendiner op woensdag 6 mei of donderdag 28 mei voor leden Senioren Heesch na aanmelding.</p>
DESCRIPTION:<a href='/agenda/2026/5/6/aan-tafel-bij-gerda-77850'>/agenda/2026/5/6/aan-tafel-bij-gerda-77850</a> || <p>Driegangendiner op woensdag 6 mei of donderdag 28 mei voor leden Senioren Heesch na aanmelding.</p>
LAST-MODIFIED:20260424T124312Z
LOCATION: Welkomcentrum De Pas | De Misse 4 Heesch
SEQUENCE:0
STATUS:CONFIRMED
SUMMARY:Aan tafel bij Gerda
TRANSP:OPAQUE
END:VEVENT
END:VCALENDAR
