BEGIN:VCALENDAR
PRODID:-//PUBBLE//agenda//NL
VERSION:2.0
METHOD:PUBLISH
BEGIN:VEVENT
DTSTART:20260419T204258Z
DTEND:20260506T140000Z
DTSTAMP:20260424T125505Z
UID:f5fb2678-f561-4858-bdc7-8bc3db2cc7ec
CREATED:20260424T125505Z
NAME:Repair Café in Heesch mooibernheze.nl
X-WR-CALNAME:Repair Café in Heesch
X-ALT-DESC;FMTTYPE=text/html:<a href='/agenda/2026/5/6/repair-cafe-in-heesch-77847'>/agenda/2026/5/6/repair-cafe-in-heesch-77847</a> || <p>HEESCH - In de zaal van de kerk - met de ingang aan de Kerkstraat 2 - is woensdag 6 mei van 13.00 tot 16.00 uur weer het Repair Café. De ingang is niet te missen, want de vlag staat buiten. Heb je iets dat stuk is, maar dat je nog een tweede leven gunt? Kom dan langs, want de vrijwilligers doen hun uiterste best om het te repareren. Dit kan echt van alles zijn; van huishoudelijke apparatuur, speelgoed en een rollator tot een tafeltje dat wankelt en audioproblemen. Ook kunnen je messen geslepen worden en wist je dat je voor problemen met je pc en/of je mobieltje ook bij de mensen van het Repair Café terechtkunt? <br><br>Voor sommige elektrische apparatuur is vervangende onderdelen et cetera op voorraad. Zo niet, dan kun je dat samen met een vrijwilliger bestellen. Het is trouwens erg fijn als je de gebruiksaanwijzing van het elektrische apparaat meebrengt. Moet er een rits vervangen worden? Dan dien je zelf die rits mee te nemen, want die heeft het Repair Café niet op voorraad. Het Repair Café is gratis, maar een vrijwillige bijdrage wordt zeer op prijs gesteld.</p><p>Een een kopje koffie en thee staan voor je klaar!</p>
DESCRIPTION:<a href='/agenda/2026/5/6/repair-cafe-in-heesch-77847'>/agenda/2026/5/6/repair-cafe-in-heesch-77847</a> || <p>HEESCH - In de zaal van de kerk - met de ingang aan de Kerkstraat 2 - is woensdag 6 mei van 13.00 tot 16.00 uur weer het Repair Café. De ingang is niet te missen, want de vlag staat buiten. Heb je iets dat stuk is, maar dat je nog een tweede leven gunt? Kom dan langs, want de vrijwilligers doen hun uiterste best om het te repareren. Dit kan echt van alles zijn; van huishoudelijke apparatuur, speelgoed en een rollator tot een tafeltje dat wankelt en audioproblemen. Ook kunnen je messen geslepen worden en wist je dat je voor problemen met je pc en/of je mobieltje ook bij de mensen van het Repair Café terechtkunt? <br><br>Voor sommige elektrische apparatuur is vervangende onderdelen et cetera op voorraad. Zo niet, dan kun je dat samen met een vrijwilliger bestellen. Het is trouwens erg fijn als je de gebruiksaanwijzing van het elektrische apparaat meebrengt. Moet er een rits vervangen worden? Dan dien je zelf die rits mee te nemen, want die heeft het Repair Café niet op voorraad. Het Repair Café is gratis, maar een vrijwillige bijdrage wordt zeer op prijs gesteld.</p><p>Een een kopje koffie en thee staan voor je klaar!</p>
LAST-MODIFIED:20260424T125505Z
LOCATION: Zaal van de Kerk | Kerkstraat 2 Heesch
SEQUENCE:0
STATUS:CONFIRMED
SUMMARY:Repair Café in Heesch
TRANSP:OPAQUE
END:VEVENT
END:VCALENDAR
