BEGIN:VCALENDAR
PRODID:-//PUBBLE//agenda//NL
VERSION:2.0
METHOD:PUBLISH
BEGIN:VEVENT
DTSTART:20260419T202145Z
DTEND:20260419T212145Z
DTSTAMP:20260424T124809Z
UID:e088aaf4-581b-48bf-a15d-729d7eb6fa04
CREATED:20260424T124809Z
NAME:Telefoons van weleer mooibernheze.nl
X-WR-CALNAME:Telefoons van weleer
X-ALT-DESC;FMTTYPE=text/html:<a href='/agenda/2026/5/6/telefoons-van-weleer-77840'>/agenda/2026/5/6/telefoons-van-weleer-77840</a> || <p>NISTELRODE – Wie kent ze nog: de telefoons van vroeger? Willem Verhoog uit Nistelrode vertelt tijdens een interactieve lezing woensdag 6 mei om 20.00 uur bij Heemkundekring Nistelvorst over bekende en onbekende modellen.</p><p>Ken je deze nog?<br>“Deze vraag kun je vast wel beantwoorden als je het grijze draaitoestel ziet,” vertelt Willem. “De T65 werd in 1965 door de PTT geïntroduceerd als standaard-telefoontoestel. Je zag ze in bijna elke huiskamer staan of aan de muur hangen. Naast grijs is het toestel uitgevoerd in verschillende kleuren. Het is me gelukt de T65 in elke beschikbare kleur toe te voegen aan mijn verzameling.”</p><p>Wie is Willem Verhoog? <br>Willem Verhoog heeft de telefoons door de jaren heen verzameld en zo nodig gerestaureerd. Ze komen uit de periode vanaf 1876, toen de telefoon werd uitgevonden tot aan de 80’er jaren, net voor de privatisering en de internationalisering van de telefoondienst.<br>Door de jaren heen heeft Willem alle facetten van de telefonie leren kennen. Hij werkte tien jaar in de buitendienst van de PTT en maakte daarna de overstap naar de ontwikkeling bij de centrale afdeling telefonie. Hier werkte hij mee aan nieuwe telefoons, zoals de Twintoon 10 van Ericsson. Later heeft hij zijn expertise ingezet als ZZP’er.</p><p>Aanmelden<br>De lezing is aan het Maxend 3. Leden van de Heemkundekring Nistelvorst en de Bibliotheek (op vertoon van bibliotheekpas) betalen geen entree. Niet-leden betalen € 5,- &nbsp;en een kopje koffie/ thee is bij de prijs inbegrepen.</p>
DESCRIPTION:<a href='/agenda/2026/5/6/telefoons-van-weleer-77840'>/agenda/2026/5/6/telefoons-van-weleer-77840</a> || <p>NISTELRODE – Wie kent ze nog: de telefoons van vroeger? Willem Verhoog uit Nistelrode vertelt tijdens een interactieve lezing woensdag 6 mei om 20.00 uur bij Heemkundekring Nistelvorst over bekende en onbekende modellen.</p><p>Ken je deze nog?<br>“Deze vraag kun je vast wel beantwoorden als je het grijze draaitoestel ziet,” vertelt Willem. “De T65 werd in 1965 door de PTT geïntroduceerd als standaard-telefoontoestel. Je zag ze in bijna elke huiskamer staan of aan de muur hangen. Naast grijs is het toestel uitgevoerd in verschillende kleuren. Het is me gelukt de T65 in elke beschikbare kleur toe te voegen aan mijn verzameling.”</p><p>Wie is Willem Verhoog? <br>Willem Verhoog heeft de telefoons door de jaren heen verzameld en zo nodig gerestaureerd. Ze komen uit de periode vanaf 1876, toen de telefoon werd uitgevonden tot aan de 80’er jaren, net voor de privatisering en de internationalisering van de telefoondienst.<br>Door de jaren heen heeft Willem alle facetten van de telefonie leren kennen. Hij werkte tien jaar in de buitendienst van de PTT en maakte daarna de overstap naar de ontwikkeling bij de centrale afdeling telefonie. Hier werkte hij mee aan nieuwe telefoons, zoals de Twintoon 10 van Ericsson. Later heeft hij zijn expertise ingezet als ZZP’er.</p><p>Aanmelden<br>De lezing is aan het Maxend 3. Leden van de Heemkundekring Nistelvorst en de Bibliotheek (op vertoon van bibliotheekpas) betalen geen entree. Niet-leden betalen € 5,- &nbsp;en een kopje koffie/ thee is bij de prijs inbegrepen.</p>
LAST-MODIFIED:20260424T124809Z
LOCATION: Heemhuis  | Maxend 3 Nistelrode
SEQUENCE:0
STATUS:CONFIRMED
SUMMARY:Telefoons van weleer
TRANSP:OPAQUE
END:VEVENT
END:VCALENDAR
