BEGIN:VCALENDAR
PRODID:-//PUBBLE//agenda//NL
VERSION:2.0
METHOD:PUBLISH
BEGIN:VEVENT
DTSTART:20260419T183823Z
DTEND:20260419T193823Z
DTSTAMP:20260424T130305Z
UID:8c749028-57df-46c7-a157-bf46cf787fd1
CREATED:20260424T130305Z
NAME:Nationale Herdenking in Heeswijk-Dinther mooibernheze.nl
X-WR-CALNAME:Nationale Herdenking in Heeswijk-Dinther
X-ALT-DESC;FMTTYPE=text/html:<a href='/agenda/2026/5/4/nationale-herdenking-in-heeswijk-dinther-77836'>/agenda/2026/5/4/nationale-herdenking-in-heeswijk-dinther-77836</a> || <p><em>Landelijk thema dit jaar: De geschiedenis leren begrijpen!</em><br><br>HEESWIJK-DINTHER - Ook in de dorpen van Bernheze neemt de belangstelling om bij de herdenking aanwezig te zijn toe. Dit jaar wordt er bij de herdenkingsceremonie in de Abdijkerk sfeervol stilgestaan bij diegene die hun leven gaven voor onze vrijheid.<br><br>Samenkomst voor deze Nationale Herdenking is maandag 4 mei om 18.30 uur, aanvang van de herdenkingsceremonie is om 18.45 uur, met medewerking van leden van de Koninklijk Fanfare, Gilde St. Barbara met Gildekoor, het Oranje Comité en het Comité Burgerslachtoffers 1940-1945 HDL.<br><br>De burgerslachtoffers van HDL worden speciaal herdacht middels het leggen van een krans bij het monument dat ter nagedachtenis van hen is opgericht.<br>Namens alle nabestaanden wordt dat dit jaar gedaan door familieleden van de op tragische wijze  omgekomen 2-jarige Noortje Cornelissen. Het is bijzonder dat een zus van Noortje - de nu 94-jarige Wilma - hierbij aanwezig zal zijn. Wilma was erbij op die fatale septemberdag in 1944.<br><br>Na afloop van de ceremonie volgt een stille tocht naar de herdenkingsmonumenten en ter ere van alle gevallenen worden kransen gelegd namens burgemeester en wethouders, het Oranje Comité en het Comité Burgerslachtoffers 1940-1945 HDL.<br><br>Na afloop van de stille tocht is iedereen  welkom in het Willibrordcentrum om onder het genot van een kopje koffie of thee samen nog wat na te praten over deze Nationale Herdenking.<br><br>Graag tot ziens op maandag 4 mei om 18.30 uur in de Abdijkerk.</p>
DESCRIPTION:<a href='/agenda/2026/5/4/nationale-herdenking-in-heeswijk-dinther-77836'>/agenda/2026/5/4/nationale-herdenking-in-heeswijk-dinther-77836</a> || <p><em>Landelijk thema dit jaar: De geschiedenis leren begrijpen!</em><br><br>HEESWIJK-DINTHER - Ook in de dorpen van Bernheze neemt de belangstelling om bij de herdenking aanwezig te zijn toe. Dit jaar wordt er bij de herdenkingsceremonie in de Abdijkerk sfeervol stilgestaan bij diegene die hun leven gaven voor onze vrijheid.<br><br>Samenkomst voor deze Nationale Herdenking is maandag 4 mei om 18.30 uur, aanvang van de herdenkingsceremonie is om 18.45 uur, met medewerking van leden van de Koninklijk Fanfare, Gilde St. Barbara met Gildekoor, het Oranje Comité en het Comité Burgerslachtoffers 1940-1945 HDL.<br><br>De burgerslachtoffers van HDL worden speciaal herdacht middels het leggen van een krans bij het monument dat ter nagedachtenis van hen is opgericht.<br>Namens alle nabestaanden wordt dat dit jaar gedaan door familieleden van de op tragische wijze  omgekomen 2-jarige Noortje Cornelissen. Het is bijzonder dat een zus van Noortje - de nu 94-jarige Wilma - hierbij aanwezig zal zijn. Wilma was erbij op die fatale septemberdag in 1944.<br><br>Na afloop van de ceremonie volgt een stille tocht naar de herdenkingsmonumenten en ter ere van alle gevallenen worden kransen gelegd namens burgemeester en wethouders, het Oranje Comité en het Comité Burgerslachtoffers 1940-1945 HDL.<br><br>Na afloop van de stille tocht is iedereen  welkom in het Willibrordcentrum om onder het genot van een kopje koffie of thee samen nog wat na te praten over deze Nationale Herdenking.<br><br>Graag tot ziens op maandag 4 mei om 18.30 uur in de Abdijkerk.</p>
LAST-MODIFIED:20260424T130305Z
LOCATION: Abdij van Berne | Abdijstraat 49 Heeswijk-Dinther
SEQUENCE:0
STATUS:CONFIRMED
SUMMARY:Nationale Herdenking in Heeswijk-Dinther
TRANSP:OPAQUE
END:VEVENT
END:VCALENDAR
