BEGIN:VCALENDAR
PRODID:-//PUBBLE//agenda//NL
VERSION:2.0
METHOD:PUBLISH
BEGIN:VEVENT
DTSTART:20260419T183156Z
DTEND:20260419T193156Z
DTSTAMP:20260424T150948Z
UID:22b353b3-05c9-4ecb-a138-3ad98315351d
CREATED:20260424T150948Z
NAME:Expositie bij Laverhof mooibernheze.nl
X-WR-CALNAME:Expositie bij Laverhof
X-ALT-DESC;FMTTYPE=text/html:<a href='/agenda/2026/7/25/expositie-bij-laverhof-77829'>/agenda/2026/7/25/expositie-bij-laverhof-77829</a> || <p><em>Nog tot en met september!</em></p><p>HEESWIJK-DINTHER - Er is een expositie bij Laverhof die tot september dagelijks te bewonderen is. De exposanten zijn Lies van Boven, Marijke Schenk en Brigitte Constant.<br /><br /><strong>Lies van Boven</strong><br />Portretschilderen is al 26 jaar één van haar grootste hobby’s. Ze begon er mee toen kunstenaar Cornel Snels haar leerde hoe je met pastelkrijt een gezicht tot leven kunt brengen. Inmiddels werkt ze vooral met olieverf. “Bij een portret komt het aan op de kleinste details. Een kleine schaduw, een lichte glimlach of een blik in de ogen, zorgt ervoor dat iemand zichzelf echt herkent. Juist dat vind ik het mooiste om te doen: zo zorgvuldig schilderen dat het model denkt: ‘ja, dat ben ik.’”</p><p><strong>Marijke Schenk</strong><br />Haar eerste kennismaking met schilderen was bij Pieter Breughel in Veghel. Daar volgde ze vijf jaar lessen in de aquareltechniek. Daarna is ze zich geleidelijk meer gaan toeleggen op figuratief schilderen in acryl. Momenteel schildert ze portretten met olieverf. “Olieverf geeft het schilderij een warme glans en heeft een klassieke uitstraling. Portretten schilderen blijft steeds weer een uitdaging, maar is voor mij een fijne ontspanning.”</p><p><strong>Brigitte Constant</strong><br />Ze volgt al vele jaren schilderles bij Art Werststeeg in Berlicum. Ze schildert met acrylverf en gebruikt verschillende technieken en materialen. Zo gebruikt ze zand, zout of zaagsel gemengd met verf voor een verdikte structuur. Verder verwerkt ze onder andere jute, papieren servetten, kralen en visnet in haar schilderijen. “Mijn schilderijen zijn erg uiteenlopend, doordat ik telkens met andere thema’s werk.”</p><p>Je bent van harte welkom om de mooie expositie te komen bekijken!</p>
DESCRIPTION:<a href='/agenda/2026/7/25/expositie-bij-laverhof-77829'>/agenda/2026/7/25/expositie-bij-laverhof-77829</a> || <p><em>Nog tot en met september!</em></p><p>HEESWIJK-DINTHER - Er is een expositie bij Laverhof die tot september dagelijks te bewonderen is. De exposanten zijn Lies van Boven, Marijke Schenk en Brigitte Constant.<br /><br /><strong>Lies van Boven</strong><br />Portretschilderen is al 26 jaar één van haar grootste hobby’s. Ze begon er mee toen kunstenaar Cornel Snels haar leerde hoe je met pastelkrijt een gezicht tot leven kunt brengen. Inmiddels werkt ze vooral met olieverf. “Bij een portret komt het aan op de kleinste details. Een kleine schaduw, een lichte glimlach of een blik in de ogen, zorgt ervoor dat iemand zichzelf echt herkent. Juist dat vind ik het mooiste om te doen: zo zorgvuldig schilderen dat het model denkt: ‘ja, dat ben ik.’”</p><p><strong>Marijke Schenk</strong><br />Haar eerste kennismaking met schilderen was bij Pieter Breughel in Veghel. Daar volgde ze vijf jaar lessen in de aquareltechniek. Daarna is ze zich geleidelijk meer gaan toeleggen op figuratief schilderen in acryl. Momenteel schildert ze portretten met olieverf. “Olieverf geeft het schilderij een warme glans en heeft een klassieke uitstraling. Portretten schilderen blijft steeds weer een uitdaging, maar is voor mij een fijne ontspanning.”</p><p><strong>Brigitte Constant</strong><br />Ze volgt al vele jaren schilderles bij Art Werststeeg in Berlicum. Ze schildert met acrylverf en gebruikt verschillende technieken en materialen. Zo gebruikt ze zand, zout of zaagsel gemengd met verf voor een verdikte structuur. Verder verwerkt ze onder andere jute, papieren servetten, kralen en visnet in haar schilderijen. “Mijn schilderijen zijn erg uiteenlopend, doordat ik telkens met andere thema’s werk.”</p><p>Je bent van harte welkom om de mooie expositie te komen bekijken!</p>
LAST-MODIFIED:20260424T150948Z
LOCATION: Laverhof | Zijlstraat 1 Heeswijk-Dinther
SEQUENCE:0
STATUS:CONFIRMED
SUMMARY:Expositie bij Laverhof
TRANSP:OPAQUE
END:VEVENT
END:VCALENDAR
