BEGIN:VCALENDAR
PRODID:-//PUBBLE//agenda//NL
VERSION:2.0
METHOD:PUBLISH
BEGIN:VEVENT
DTSTART:20260419T182543Z
DTEND:20260503T140000Z
DTSTAMP:20260424T112338Z
UID:7f2f06aa-0080-40c4-9fbd-893d1e7ae084
CREATED:20260424T112338Z
NAME:Perkplantendag mooibernheze.nl
X-WR-CALNAME:Perkplantendag
X-ALT-DESC;FMTTYPE=text/html:<a href='/agenda/2026/5/2/perkplantendag-77820'>/agenda/2026/5/2/perkplantendag-77820</a> || <p>HEESWIJK-DINTHER - Stichting ALS organiseert 2 en 3 mei in samenwerking met De Kilsdonkse Molen weer de perkplantjesmarkt. De markt is twee dagen open; zaterdag van 9.30 tot 16.00 uur en zondag van 10.30 tot 15.00 uur. Beide dagen is tussen 13.00 en 15.00 uur live muziek te horen wat ongetwijfeld zal bijdragen aan een gezellige voorjaarssfeer.</p><p>Zomerbloeiers, in alle soorten en maten en in allerlei kleuren, zijn volop te koop. Met wat water en extra voeding zullen ze de heel de zomer lang voor vrolijke bloemen op het terras of in de tuin zorgen. Een mooi cadeau voor Moederdag of gewoon voor jezelf.</p><p>De opbrengst is voor Stichting ALS, die hiermee zoveel mogelijk (wetenschappelijk) onderzoek wil financieren om de behandeling van ALS en aanverwante ziekten mogelijk te maken. Ook kan hiermee de zorg voor en het leven van patiënten wat verlicht worden. Bij de ziekte ALS (Amyotrofische Laterale Sclerose), vallen je spieren één voor één uit en na de eerste symptomen overlijden mensen met deze ziekte gemiddeld binnen drie tot vijf jaar.</p><p>Het bezoekerscentrum van De Kilsdonkse Molen is natuurlijk open voor een lekker kopje koffie of een drankje. Zaterdag 3 mei krijg je bij een kopje koffie of thee gratis een lekker stuk molenkoek. Het hele weekend kun je overigens net als anders gewoon genieten op De Kilsdonkse molen, een rondleiding door de molen reserveren of een vaarttocht met de fluisterboot boeken.</p>
DESCRIPTION:<a href='/agenda/2026/5/2/perkplantendag-77820'>/agenda/2026/5/2/perkplantendag-77820</a> || <p>HEESWIJK-DINTHER - Stichting ALS organiseert 2 en 3 mei in samenwerking met De Kilsdonkse Molen weer de perkplantjesmarkt. De markt is twee dagen open; zaterdag van 9.30 tot 16.00 uur en zondag van 10.30 tot 15.00 uur. Beide dagen is tussen 13.00 en 15.00 uur live muziek te horen wat ongetwijfeld zal bijdragen aan een gezellige voorjaarssfeer.</p><p>Zomerbloeiers, in alle soorten en maten en in allerlei kleuren, zijn volop te koop. Met wat water en extra voeding zullen ze de heel de zomer lang voor vrolijke bloemen op het terras of in de tuin zorgen. Een mooi cadeau voor Moederdag of gewoon voor jezelf.</p><p>De opbrengst is voor Stichting ALS, die hiermee zoveel mogelijk (wetenschappelijk) onderzoek wil financieren om de behandeling van ALS en aanverwante ziekten mogelijk te maken. Ook kan hiermee de zorg voor en het leven van patiënten wat verlicht worden. Bij de ziekte ALS (Amyotrofische Laterale Sclerose), vallen je spieren één voor één uit en na de eerste symptomen overlijden mensen met deze ziekte gemiddeld binnen drie tot vijf jaar.</p><p>Het bezoekerscentrum van De Kilsdonkse Molen is natuurlijk open voor een lekker kopje koffie of een drankje. Zaterdag 3 mei krijg je bij een kopje koffie of thee gratis een lekker stuk molenkoek. Het hele weekend kun je overigens net als anders gewoon genieten op De Kilsdonkse molen, een rondleiding door de molen reserveren of een vaarttocht met de fluisterboot boeken.</p>
LAST-MODIFIED:20260424T112338Z
LOCATION: De Kilsdonkse Molen | Kilsdonkseweg 4-6 Heeswijk-Dinther
SEQUENCE:0
STATUS:CONFIRMED
SUMMARY:Perkplantendag
TRANSP:OPAQUE
END:VEVENT
END:VCALENDAR
