BEGIN:VCALENDAR
PRODID:-//PUBBLE//agenda//NL
VERSION:2.0
METHOD:PUBLISH
BEGIN:VEVENT
DTSTART:20260419T164445Z
DTEND:20260510T150000Z
DTSTAMP:20260424T124851Z
UID:959baccb-071c-45a9-a10c-c07a39d2a0a7
CREATED:20260424T124851Z
NAME:Kunstmest Outdoor mooibernheze.nl
X-WR-CALNAME:Kunstmest Outdoor
X-ALT-DESC;FMTTYPE=text/html:<a href='/agenda/2026/5/10/kunstmest-outdoor-77809'>/agenda/2026/5/10/kunstmest-outdoor-77809</a> || <p><em>In samenwerking met Koningstheateracademie Den Bosch en in combinatie met een foto-expositie&nbsp;</em><br /><br />HEESWIJK-DINTHER - Er vindt zondagmiddag 10 mei een nieuw en gratis toegankelijk event bij De Kersouwe plaats: Kunstmest Outdoor. In samenwerking met de Koningstheateracademie in Den Bosch organiseert De Kersouwe deze eerste editie. Hierbij geven studenten van de academie korte optredens op de leukste en meest bijzondere plekken van het Kersouweterrein.</p><p><strong>Over Kunstmest Outdoor</strong><br />Vanaf 11.30 tot 17.00 uur zijn er op het Kersouweterrein diverse optredens van studenten van de Koningstheateracademie. En dan niet op de geijkte plekken die je al kent. Zo is er stand-up comedy van Tijmen Caljouw en Matthijs Wagenaar achter het stenen decor van het grote podium en geeft Jaron een mini-college cabaret op de kostuumzolder van het openluchttheater. Kleinkunstenares Rositha Rikkers kom je bij de kiosk tegen en in het kleine Madelieftheater is er er kindercabaretvoorstelling van Nina de Louw. De afsluiter wordt verzorgd door Amy Looman met de korte cabaretvoorstelling ‘Hij houdt nog van haar’. Koningstheaterstudente Amy is mede-organisator van Kunstmest Outdoor en speelde daarnaast jarenlang bij theatergroep Kersouwe.<br /><br /><strong>Combinatie met foto-expositie</strong><br />Deze nieuwe Kersouwe-activiteit vindt plaats in combinatie met de foto-expositie van Fotoclub Bernheze. Deze expo vindt al jarenlang plaats op de tweede zondag van mei. Omdat het ook Moederdag is, ontvangen alle moeders bovendien een gratis kopje koffie.</p><p>De toegang is gratis en je kunt gewoon binnenlopen. Op de website van De Kersouwe vind je het complete blokkenschema van Kunstmest Outdoor met alle tijden van de optredens artiesten. Graag tot dan!</p>
DESCRIPTION:<a href='/agenda/2026/5/10/kunstmest-outdoor-77809'>/agenda/2026/5/10/kunstmest-outdoor-77809</a> || <p><em>In samenwerking met Koningstheateracademie Den Bosch en in combinatie met een foto-expositie&nbsp;</em><br /><br />HEESWIJK-DINTHER - Er vindt zondagmiddag 10 mei een nieuw en gratis toegankelijk event bij De Kersouwe plaats: Kunstmest Outdoor. In samenwerking met de Koningstheateracademie in Den Bosch organiseert De Kersouwe deze eerste editie. Hierbij geven studenten van de academie korte optredens op de leukste en meest bijzondere plekken van het Kersouweterrein.</p><p><strong>Over Kunstmest Outdoor</strong><br />Vanaf 11.30 tot 17.00 uur zijn er op het Kersouweterrein diverse optredens van studenten van de Koningstheateracademie. En dan niet op de geijkte plekken die je al kent. Zo is er stand-up comedy van Tijmen Caljouw en Matthijs Wagenaar achter het stenen decor van het grote podium en geeft Jaron een mini-college cabaret op de kostuumzolder van het openluchttheater. Kleinkunstenares Rositha Rikkers kom je bij de kiosk tegen en in het kleine Madelieftheater is er er kindercabaretvoorstelling van Nina de Louw. De afsluiter wordt verzorgd door Amy Looman met de korte cabaretvoorstelling ‘Hij houdt nog van haar’. Koningstheaterstudente Amy is mede-organisator van Kunstmest Outdoor en speelde daarnaast jarenlang bij theatergroep Kersouwe.<br /><br /><strong>Combinatie met foto-expositie</strong><br />Deze nieuwe Kersouwe-activiteit vindt plaats in combinatie met de foto-expositie van Fotoclub Bernheze. Deze expo vindt al jarenlang plaats op de tweede zondag van mei. Omdat het ook Moederdag is, ontvangen alle moeders bovendien een gratis kopje koffie.</p><p>De toegang is gratis en je kunt gewoon binnenlopen. Op de website van De Kersouwe vind je het complete blokkenschema van Kunstmest Outdoor met alle tijden van de optredens artiesten. Graag tot dan!</p>
LAST-MODIFIED:20260424T124851Z
LOCATION: Natuurtheater De Kersouwe  | Kersouwelaan 1 Heeswijk-Dinther
SEQUENCE:0
STATUS:CONFIRMED
SUMMARY:Kunstmest Outdoor
TRANSP:OPAQUE
END:VEVENT
END:VCALENDAR
