BEGIN:VCALENDAR
PRODID:-//PUBBLE//agenda//NL
VERSION:2.0
METHOD:PUBLISH
BEGIN:VEVENT
DTSTART:20260418T200044Z
DTEND:20260418T210044Z
DTSTAMP:20260424T132426Z
UID:480e94d4-0475-457a-970d-d9a38bf317c2
CREATED:20260424T132426Z
NAME:Bijzonder concert ‘Ons Dorp’ brengt Heeswijk-Dinther tot leven mooibernheze.nl
X-WR-CALNAME:Bijzonder concert ‘Ons Dorp’ brengt Heeswijk-Dinther tot leven
X-ALT-DESC;FMTTYPE=text/html:<a href='/agenda/2026/5/31/bijzonder-concert-ons-dorp-brengt-heeswijk-dinther-tot-leven-77796'>/agenda/2026/5/31/bijzonder-concert-ons-dorp-brengt-heeswijk-dinther-tot-leven-77796</a> || <p>HEESWIJK-DINTHER - Muziekvereniging Servaes Dinther maakt zich op voor een wel heel bijzondere muzikale middag. Zondag 31 mei presenteren het harmonieorkest, gemeentedichter Harold van der Heijden en zandtovenares Roos van Riet OM 14.00 uur een unieke voorstelling waarin muziek, verhaal en beeld op indrukwekkende wijze samenkomen. De titel is Ons Dorp en de locatie is de Muziekfabriek.&nbsp;</p><p>In deze bijzondere productie wordt het verhaal van Heeswijk-Dinther tot leven gebracht. Klanken van het harmonieorkest vormen de rode draad, terwijl de woorden van de gemeentedichter het publiek meenemen door de geschiedenis en het karakter van het dorp. Ondertussen ontstaan er live prachtige zandtekeningen, die het verhaal visueel versterken en zorgen voor een extra dimensie. Het resultaat is een vernieuwende en ontroerende beleving die jong en oud zal aanspreken. Het concert is nadrukkelijk een familievoorstelling voor jong en oud. Een middag waar je als inwoner van Heeswijk-Dinther simpelweg bij wilt zijn.</p><p>De toegang tot het concert is gratis, maar het aantal plaatsen is beperkt. Daarom is vooraf aanmelden noodzakelijk. Dit kan door een mail te sturen naar kaartverkoop@muziekverenigingservaes.nl, onder vermelding van naam, telefoonnummer en het aantal kaarten. Let op: vol is vol.</p><p>Mis deze bijzondere voorstelling niet en verzeker jezelf van een plaats bij deze unieke muzikale vertelling van ons eigen dorp.</p>
DESCRIPTION:<a href='/agenda/2026/5/31/bijzonder-concert-ons-dorp-brengt-heeswijk-dinther-tot-leven-77796'>/agenda/2026/5/31/bijzonder-concert-ons-dorp-brengt-heeswijk-dinther-tot-leven-77796</a> || <p>HEESWIJK-DINTHER - Muziekvereniging Servaes Dinther maakt zich op voor een wel heel bijzondere muzikale middag. Zondag 31 mei presenteren het harmonieorkest, gemeentedichter Harold van der Heijden en zandtovenares Roos van Riet OM 14.00 uur een unieke voorstelling waarin muziek, verhaal en beeld op indrukwekkende wijze samenkomen. De titel is Ons Dorp en de locatie is de Muziekfabriek.&nbsp;</p><p>In deze bijzondere productie wordt het verhaal van Heeswijk-Dinther tot leven gebracht. Klanken van het harmonieorkest vormen de rode draad, terwijl de woorden van de gemeentedichter het publiek meenemen door de geschiedenis en het karakter van het dorp. Ondertussen ontstaan er live prachtige zandtekeningen, die het verhaal visueel versterken en zorgen voor een extra dimensie. Het resultaat is een vernieuwende en ontroerende beleving die jong en oud zal aanspreken. Het concert is nadrukkelijk een familievoorstelling voor jong en oud. Een middag waar je als inwoner van Heeswijk-Dinther simpelweg bij wilt zijn.</p><p>De toegang tot het concert is gratis, maar het aantal plaatsen is beperkt. Daarom is vooraf aanmelden noodzakelijk. Dit kan door een mail te sturen naar kaartverkoop@muziekverenigingservaes.nl, onder vermelding van naam, telefoonnummer en het aantal kaarten. Let op: vol is vol.</p><p>Mis deze bijzondere voorstelling niet en verzeker jezelf van een plaats bij deze unieke muzikale vertelling van ons eigen dorp.</p>
LAST-MODIFIED:20260424T132426Z
LOCATION: De Muziekfabriek | Abdijstraat 53 Heeswijk-Dinther
SEQUENCE:0
STATUS:CONFIRMED
SUMMARY:Bijzonder concert ‘Ons Dorp’ brengt Heeswijk-Dinther tot leven
TRANSP:OPAQUE
END:VEVENT
END:VCALENDAR
