BEGIN:VCALENDAR
PRODID:-//PUBBLE//agenda//NL
VERSION:2.0
METHOD:PUBLISH
BEGIN:VEVENT
DTSTART:20260417T103722Z
DTEND:20260425T160000Z
DTSTAMP:20260424T112217Z
UID:2446ac4d-eed3-494f-9678-7bcde3ffeee9
CREATED:20260424T112217Z
NAME:Kom jij vandaag ook naar CC Servaes? mooibernheze.nl
X-WR-CALNAME:Kom jij vandaag ook naar CC Servaes?
X-ALT-DESC;FMTTYPE=text/html:<a href='/agenda/2026/4/25/kom-jij-vandaag-ook-naar-cc-servaes--77791'>/agenda/2026/4/25/kom-jij-vandaag-ook-naar-cc-servaes--77791</a> || <p>09:00 tot 18:00 uur ccServaes Bridge</p>
DESCRIPTION:<a href='/agenda/2026/4/25/kom-jij-vandaag-ook-naar-cc-servaes--77791'>/agenda/2026/4/25/kom-jij-vandaag-ook-naar-cc-servaes--77791</a> || <p>09:00 tot 18:00 uur ccServaes Bridge</p>
LAST-MODIFIED:20260424T112217Z
LOCATION: CC Servaes | Raadhuisplein 24 Heeswijk-Dinther
SEQUENCE:0
STATUS:CONFIRMED
SUMMARY:Kom jij vandaag ook naar CC Servaes?
TRANSP:OPAQUE
END:VEVENT
END:VCALENDAR
