BEGIN:VCALENDAR
PRODID:-//PUBBLE//agenda//NL
VERSION:2.0
METHOD:PUBLISH
BEGIN:VEVENT
DTSTART:20260417T103643Z
DTEND:20260424T210000Z
DTSTAMP:20260424T112244Z
UID:0b38e178-8d30-411a-a9f6-de65893ed89a
CREATED:20260424T112244Z
NAME:Kom jij vandaag ook naar CC Servaes? mooibernheze.nl
X-WR-CALNAME:Kom jij vandaag ook naar CC Servaes?
X-ALT-DESC;FMTTYPE=text/html:<a href='/agenda/2026/4/24/kom-jij-vandaag-ook-naar-cc-servaes--77790'>/agenda/2026/4/24/kom-jij-vandaag-ook-naar-cc-servaes--77790</a> || <p>13:00 tot 15:00 uur Senioren HD Countrydans<br />13:00 tot 16:30 uur Stichting Kilsdonkse molen<br />13:00 tot 17:00 uur DIO biljarten<br />19:00 tot 21:00 uur Sing &amp; Joy<br />20:00 tot 22:00 uur Vocalgroup Shine<br />20:00 tot 23:00 uur ccServaes Vrij Biljarten</p>
DESCRIPTION:<a href='/agenda/2026/4/24/kom-jij-vandaag-ook-naar-cc-servaes--77790'>/agenda/2026/4/24/kom-jij-vandaag-ook-naar-cc-servaes--77790</a> || <p>13:00 tot 15:00 uur Senioren HD Countrydans<br />13:00 tot 16:30 uur Stichting Kilsdonkse molen<br />13:00 tot 17:00 uur DIO biljarten<br />19:00 tot 21:00 uur Sing &amp; Joy<br />20:00 tot 22:00 uur Vocalgroup Shine<br />20:00 tot 23:00 uur ccServaes Vrij Biljarten</p>
LAST-MODIFIED:20260424T112244Z
LOCATION: CC Servaes | Raadhuisplein 24 Heeswijk-Dinther
SEQUENCE:0
STATUS:CONFIRMED
SUMMARY:Kom jij vandaag ook naar CC Servaes?
TRANSP:OPAQUE
END:VEVENT
END:VCALENDAR
