BEGIN:VCALENDAR
PRODID:-//PUBBLE//agenda//NL
VERSION:2.0
METHOD:PUBLISH
BEGIN:VEVENT
DTSTART:20260417T103458Z
DTEND:20260422T203000Z
DTSTAMP:20260422T034749Z
UID:7fc28f72-30ea-4cf0-9e3b-51ed1face6b1
CREATED:20260422T034749Z
NAME:Kom jij vandaag ook naar CC Servaes? mooibernheze.nl
X-WR-CALNAME:Kom jij vandaag ook naar CC Servaes?
X-ALT-DESC;FMTTYPE=text/html:<a href='/agenda/2026/4/22/kom-jij-vandaag-ook-naar-cc-servaes--77788'>/agenda/2026/4/22/kom-jij-vandaag-ook-naar-cc-servaes--77788</a> || <p>09:30 tot 10:00 uur MTC Bernheze<br />09:30 tot 10:30 uur Senioren HD Engelse les<br />13:00 tot 17:00 uur DIO biljarten<br />18:30 tot 20:00 uur Stretch en relax<br />19:00 tot 23:00 uur ccServaes Vrij Biljarten<br />20:30 tot 22:00 uur De Bokkebloazers<br />20:30 tot 22:30 uur RK Amicantokoor</p>
DESCRIPTION:<a href='/agenda/2026/4/22/kom-jij-vandaag-ook-naar-cc-servaes--77788'>/agenda/2026/4/22/kom-jij-vandaag-ook-naar-cc-servaes--77788</a> || <p>09:30 tot 10:00 uur MTC Bernheze<br />09:30 tot 10:30 uur Senioren HD Engelse les<br />13:00 tot 17:00 uur DIO biljarten<br />18:30 tot 20:00 uur Stretch en relax<br />19:00 tot 23:00 uur ccServaes Vrij Biljarten<br />20:30 tot 22:00 uur De Bokkebloazers<br />20:30 tot 22:30 uur RK Amicantokoor</p>
LAST-MODIFIED:20260422T034749Z
LOCATION: CC Servaes | Raadhuisplein 24 Heeswijk-Dinther
SEQUENCE:0
STATUS:CONFIRMED
SUMMARY:Kom jij vandaag ook naar CC Servaes?
TRANSP:OPAQUE
END:VEVENT
END:VCALENDAR
