BEGIN:VCALENDAR
PRODID:-//PUBBLE//agenda//NL
VERSION:2.0
METHOD:PUBLISH
BEGIN:VEVENT
DTSTART:20260417T103422Z
DTEND:20260421T210000Z
DTSTAMP:20260421T122744Z
UID:15ecae21-c0d6-4a54-8de4-17ab293bb486
CREATED:20260421T122744Z
NAME:Kom jij vandaag ook naar CC Servaes? mooibernheze.nl
X-WR-CALNAME:Kom jij vandaag ook naar CC Servaes?
X-ALT-DESC;FMTTYPE=text/html:<a href='/agenda/2026/4/21/kom-jij-vandaag-ook-naar-cc-servaes--77787'>/agenda/2026/4/21/kom-jij-vandaag-ook-naar-cc-servaes--77787</a> || <p>09:00 tot 10:00 uur ccServaes Bijeenkomst<br />10:00 tot 11:00 uur Senioren HD wandelaars<br />10:00 tot 12:00 uur Senioren HD Cantandokoor<br />13:00 tot 17:00 uur DIO biljarten<br />13:30 tot 16:00 uur Senioren HD Koersbal<br />15:30 tot 16:30 uur M.art Studios dansen<br />19:00 tot 20:00 uur RK secretariaat<br />19:00 tot 23:00 uur ccServaes Vrij Biljarten</p>
DESCRIPTION:<a href='/agenda/2026/4/21/kom-jij-vandaag-ook-naar-cc-servaes--77787'>/agenda/2026/4/21/kom-jij-vandaag-ook-naar-cc-servaes--77787</a> || <p>09:00 tot 10:00 uur ccServaes Bijeenkomst<br />10:00 tot 11:00 uur Senioren HD wandelaars<br />10:00 tot 12:00 uur Senioren HD Cantandokoor<br />13:00 tot 17:00 uur DIO biljarten<br />13:30 tot 16:00 uur Senioren HD Koersbal<br />15:30 tot 16:30 uur M.art Studios dansen<br />19:00 tot 20:00 uur RK secretariaat<br />19:00 tot 23:00 uur ccServaes Vrij Biljarten</p>
LAST-MODIFIED:20260421T122744Z
LOCATION: CC Servaes | Raadhuisplein 24 Heeswijk-Dinther
SEQUENCE:0
STATUS:CONFIRMED
SUMMARY:Kom jij vandaag ook naar CC Servaes?
TRANSP:OPAQUE
END:VEVENT
END:VCALENDAR
