BEGIN:VCALENDAR
PRODID:-//PUBBLE//agenda//NL
VERSION:2.0
METHOD:PUBLISH
BEGIN:VEVENT
DTSTART:20260417T103328Z
DTEND:20260420T190000Z
DTSTAMP:20260420T041946Z
UID:bc77d9ec-0a74-48fe-9188-218e59d4bbf2
CREATED:20260420T041946Z
NAME:Kom jij vandaag ook naar CC Servaes? mooibernheze.nl
X-WR-CALNAME:Kom jij vandaag ook naar CC Servaes?
X-ALT-DESC;FMTTYPE=text/html:<a href='/agenda/2026/4/20/kom-jij-vandaag-ook-naar-cc-servaes--77786'>/agenda/2026/4/20/kom-jij-vandaag-ook-naar-cc-servaes--77786</a> || <p>09:00 tot 10:00 uur ccServaes Bijeenkomst<br />13:00 tot 17:00 uur DIO biljarten<br />13:30 tot 14:30 uur Sine Cura Gym<br />15:00 tot 17:00 uur TUR Kidsdance<br />18:30 tot 20:30 uur Sine Cura Gym<br />19:00 tot 23:00 uur Bridge De Klotbeek<br />19:30 tot 21:00 uur Actief Burgerschap</p>
DESCRIPTION:<a href='/agenda/2026/4/20/kom-jij-vandaag-ook-naar-cc-servaes--77786'>/agenda/2026/4/20/kom-jij-vandaag-ook-naar-cc-servaes--77786</a> || <p>09:00 tot 10:00 uur ccServaes Bijeenkomst<br />13:00 tot 17:00 uur DIO biljarten<br />13:30 tot 14:30 uur Sine Cura Gym<br />15:00 tot 17:00 uur TUR Kidsdance<br />18:30 tot 20:30 uur Sine Cura Gym<br />19:00 tot 23:00 uur Bridge De Klotbeek<br />19:30 tot 21:00 uur Actief Burgerschap</p>
LAST-MODIFIED:20260420T041946Z
LOCATION: CC Servaes | Raadhuisplein 24 Heeswijk-Dinther
SEQUENCE:0
STATUS:CONFIRMED
SUMMARY:Kom jij vandaag ook naar CC Servaes?
TRANSP:OPAQUE
END:VEVENT
END:VCALENDAR
