BEGIN:VCALENDAR
PRODID:-//PUBBLE//agenda//NL
VERSION:2.0
METHOD:PUBLISH
BEGIN:VEVENT
DTSTART:20260425T063000Z
DTEND:20260425T073000Z
DTSTAMP:20260424T112352Z
UID:2c1319be-19de-47bf-b1c4-7fa95ecc6033
CREATED:20260424T112352Z
NAME:Graveltocht mooibernheze.nl
X-WR-CALNAME:Graveltocht
X-ALT-DESC;FMTTYPE=text/html:<a href='/agenda/2026/4/25/graveltocht-77777'>/agenda/2026/4/25/graveltocht-77777</a> || <p>Doe jij vandaag mee met een geweldige graveltocht? Fiets mee met onze gezellige graveltocht door de omgeving van Heeswijk-Dinther. Keuze uit twee mooie routes en volledig verzorgd met koffie, snack onderweg en een drankje na afloop. Aanmelden via <a data-fr-linked="true" href="https://bikers.nl/nieuws/graveltocht" target="_blank">https://bikers.nl/nieuws/graveltocht</a>.</p>
DESCRIPTION:<a href='/agenda/2026/4/25/graveltocht-77777'>/agenda/2026/4/25/graveltocht-77777</a> || <p>Doe jij vandaag mee met een geweldige graveltocht? Fiets mee met onze gezellige graveltocht door de omgeving van Heeswijk-Dinther. Keuze uit twee mooie routes en volledig verzorgd met koffie, snack onderweg en een drankje na afloop. Aanmelden via <a data-fr-linked="true" href="https://bikers.nl/nieuws/graveltocht" target="_blank">https://bikers.nl/nieuws/graveltocht</a>.</p>
LAST-MODIFIED:20260424T112352Z
LOCATION: Bikers | Hoofdstraat 15 Heeswijk-Dinther
SEQUENCE:0
STATUS:CONFIRMED
SUMMARY:Graveltocht
TRANSP:OPAQUE
END:VEVENT
END:VCALENDAR
