BEGIN:VCALENDAR
PRODID:-//PUBBLE//agenda//NL
VERSION:2.0
METHOD:PUBLISH
BEGIN:VEVENT
DTSTART:20260413T155553Z
DTEND:20260519T200000Z
DTSTAMP:20260424T133335Z
UID:47169efb-4b6d-4083-8f39-3c407a9eace7
CREATED:20260424T133335Z
NAME:Wat zegt jouw kleding over jou? mooibernheze.nl
X-WR-CALNAME:Wat zegt jouw kleding over jou?
X-ALT-DESC;FMTTYPE=text/html:<a href='/agenda/2026/5/19/wat-zegt-jouw-kleding-over-jou--77764'>/agenda/2026/5/19/wat-zegt-jouw-kleding-over-jou--77764</a> || <p>De workshop ‘Coaching in kleur en kleding’ is voor iedereen die nieuwsgierig is naar eigen stijl en persoonlijke uitstraling. Je ontdekt de vijf elementen van kleding: contrast, kleur, vorm, stof en accessoires. Hoe elk element een eigen boodschap uitstraalt en hoe kleding én je lichaam samen jouw verhaal vertellen.</p><p>Heesch | dinsdag 19 mei | 19.30-22.00 uur | Herma Moolenaar | € 43,-.</p>
DESCRIPTION:<a href='/agenda/2026/5/19/wat-zegt-jouw-kleding-over-jou--77764'>/agenda/2026/5/19/wat-zegt-jouw-kleding-over-jou--77764</a> || <p>De workshop ‘Coaching in kleur en kleding’ is voor iedereen die nieuwsgierig is naar eigen stijl en persoonlijke uitstraling. Je ontdekt de vijf elementen van kleding: contrast, kleur, vorm, stof en accessoires. Hoe elk element een eigen boodschap uitstraalt en hoe kleding én je lichaam samen jouw verhaal vertellen.</p><p>Heesch | dinsdag 19 mei | 19.30-22.00 uur | Herma Moolenaar | € 43,-.</p>
LAST-MODIFIED:20260424T133335Z
LOCATION: De Eijnderic | 't Dorp 92 Heesch
SEQUENCE:0
STATUS:CONFIRMED
SUMMARY:Wat zegt jouw kleding over jou?
TRANSP:OPAQUE
END:VEVENT
END:VCALENDAR
