BEGIN:VCALENDAR
PRODID:-//PUBBLE//agenda//NL
VERSION:2.0
METHOD:PUBLISH
BEGIN:VEVENT
DTSTART:20260413T155429Z
DTEND:20260512T190000Z
DTSTAMP:20260424T124322Z
UID:eecaddf8-8cae-45b4-a2db-d0ec143cbe5c
CREATED:20260424T124322Z
NAME:Lezing ‘Waarom je lichaam niet tot rust komt’ mooibernheze.nl
X-WR-CALNAME:Lezing ‘Waarom je lichaam niet tot rust komt’
X-ALT-DESC;FMTTYPE=text/html:<a href='/agenda/2026/5/12/lezing-waarom-je-lichaam-niet-tot-rust-komt-77763'>/agenda/2026/5/12/lezing-waarom-je-lichaam-niet-tot-rust-komt-77763</a> || <p>Veel mensen ervaren onrust in hun lichaam zonder precies te begrijpen waar die vandaan komt. Slecht slapen, gespannen spieren, een vol hoofd of het gevoel dat je lichaam steeds ‘aan’ staat. Herkenbaar? De lezing geeft inzicht in het zenuwstelsel, stress én herstel.<br /><br />Heesch | dinsdag 12 mei | 19.00-21.00 uur | Anne van der Sommen | € 10,-</p>
DESCRIPTION:<a href='/agenda/2026/5/12/lezing-waarom-je-lichaam-niet-tot-rust-komt-77763'>/agenda/2026/5/12/lezing-waarom-je-lichaam-niet-tot-rust-komt-77763</a> || <p>Veel mensen ervaren onrust in hun lichaam zonder precies te begrijpen waar die vandaan komt. Slecht slapen, gespannen spieren, een vol hoofd of het gevoel dat je lichaam steeds ‘aan’ staat. Herkenbaar? De lezing geeft inzicht in het zenuwstelsel, stress én herstel.<br /><br />Heesch | dinsdag 12 mei | 19.00-21.00 uur | Anne van der Sommen | € 10,-</p>
LAST-MODIFIED:20260424T124322Z
LOCATION: De Eijnderic | 't Dorp 92 Heesch
SEQUENCE:0
STATUS:CONFIRMED
SUMMARY:Lezing ‘Waarom je lichaam niet tot rust komt’
TRANSP:OPAQUE
END:VEVENT
END:VCALENDAR
