BEGIN:VCALENDAR
PRODID:-//PUBBLE//agenda//NL
VERSION:2.0
METHOD:PUBLISH
BEGIN:VEVENT
DTSTART:20260522T113000Z
DTEND:20260522T133000Z
DTSTAMP:20260424T124803Z
UID:a23c9c5a-66a0-4d3c-b845-6e63b21ea0f8
CREATED:20260424T124803Z
NAME:Workshop Aromatherapie mooibernheze.nl
X-WR-CALNAME:Workshop Aromatherapie
X-ALT-DESC;FMTTYPE=text/html:<a href='/agenda/2026/5/22/workshop-aromatherapie-77761'>/agenda/2026/5/22/workshop-aromatherapie-77761</a> || <p>Ben je op zoek naar meer rust en balans? Etherische oliën kunnen je daarbij helpen. Leer welke geuren kunnen helpen bij stress, onrust en concentratie. Een informatieve en uitvoerende workshop, waarbij je je eigen geurproduct maakt om mee naar huis te nemen.<br /><br />Heesch | vrijdag 22 mei | 13.30-15.30 uur | Anne van der Sommen | € 39,-</p>
DESCRIPTION:<a href='/agenda/2026/5/22/workshop-aromatherapie-77761'>/agenda/2026/5/22/workshop-aromatherapie-77761</a> || <p>Ben je op zoek naar meer rust en balans? Etherische oliën kunnen je daarbij helpen. Leer welke geuren kunnen helpen bij stress, onrust en concentratie. Een informatieve en uitvoerende workshop, waarbij je je eigen geurproduct maakt om mee naar huis te nemen.<br /><br />Heesch | vrijdag 22 mei | 13.30-15.30 uur | Anne van der Sommen | € 39,-</p>
LAST-MODIFIED:20260424T124803Z
LOCATION: De Eijnderic | 't Dorp 92 Heesch
SEQUENCE:0
STATUS:CONFIRMED
SUMMARY:Workshop Aromatherapie
TRANSP:OPAQUE
END:VEVENT
END:VCALENDAR
