BEGIN:VCALENDAR
PRODID:-//PUBBLE//agenda//NL
VERSION:2.0
METHOD:PUBLISH
BEGIN:VEVENT
DTSTART:20260413T141842Z
DTEND:20260420T170000Z
DTSTAMP:20260420T042704Z
UID:ceef9849-b252-4de1-ae9a-95c815f69ada
CREATED:20260420T042704Z
NAME:Kom naar Hullie in de meivakantie! mooibernheze.nl
X-WR-CALNAME:Kom naar Hullie in de meivakantie!
X-ALT-DESC;FMTTYPE=text/html:<a href='/agenda/2026/4/20/kom-naar-hullie-in-de-meivakantie--77748'>/agenda/2026/4/20/kom-naar-hullie-in-de-meivakantie--77748</a> || <p><em><strong>Vrijdag 17 april tot en met zondag 3 mei van 10.00 tot 19.00 uur</strong></em></p><p>De meivakantie staat voor de deur en daar hebben we allemaal heel veel zin in! Hulli is geopend van vrijdag 17 april tot en met zondag 3 mei van 10.00 tot 19.00 uur.<br />Kom jij gezellig langs voor een weersonafhankelijk dagje uit voor het gehele gezin?</p><p>Geniet samen met het gezin of vrienden van een lekker dagje uit tijdens de meivakantie. Van knutselen, buiten spelen tot aan urenlang klimmen en klauteren in de binnenspeeltuin. Wist je dat je bij Hullie ná 17.00 uur nog twee uurtjes gratis kunt spelen bij Hullie? Zo kun jij rustig een hapje komen eten terwijl de kinderen nog even lekker gaan spelen.&nbsp;</p><p>Nieuw bij Hullie!<br />Eén van de meest gestelde vragen bij Hullie: hebben jullie ook sokken? Ja! Vanaf nu verkriijgbaar bij Hullie entreebalie. De sokken zijn voorzien van speciale anti-slip aan de onderkant voor éxtra speelplezier. Je kunt al een paar kopen voor € 3,50.</p><p>Werken bij Hullie<br />Hullie in Uden is op dit moment op zoek naar nieuwe collega’s voor in de afwaskeuken, toezichthouder óf in de bediening. Vanaf 15 jaar kun je bij Hullie al terecht voor een uitdagend bijbaantje in de afwaskeuken. Daarna kun je doorgroeien richting de bediening. Ken of ben jij iemand die op zoek is naar een leuke bijbaan voor in het weekend of tijdens de vakanties?</p><p>Meer over Hullie <a href="https://hullie.nl" rel="noopener noreferrer" target="_blank">vind je hier...</a></p>
DESCRIPTION:<a href='/agenda/2026/4/20/kom-naar-hullie-in-de-meivakantie--77748'>/agenda/2026/4/20/kom-naar-hullie-in-de-meivakantie--77748</a> || <p><em><strong>Vrijdag 17 april tot en met zondag 3 mei van 10.00 tot 19.00 uur</strong></em></p><p>De meivakantie staat voor de deur en daar hebben we allemaal heel veel zin in! Hulli is geopend van vrijdag 17 april tot en met zondag 3 mei van 10.00 tot 19.00 uur.<br />Kom jij gezellig langs voor een weersonafhankelijk dagje uit voor het gehele gezin?</p><p>Geniet samen met het gezin of vrienden van een lekker dagje uit tijdens de meivakantie. Van knutselen, buiten spelen tot aan urenlang klimmen en klauteren in de binnenspeeltuin. Wist je dat je bij Hullie ná 17.00 uur nog twee uurtjes gratis kunt spelen bij Hullie? Zo kun jij rustig een hapje komen eten terwijl de kinderen nog even lekker gaan spelen.&nbsp;</p><p>Nieuw bij Hullie!<br />Eén van de meest gestelde vragen bij Hullie: hebben jullie ook sokken? Ja! Vanaf nu verkriijgbaar bij Hullie entreebalie. De sokken zijn voorzien van speciale anti-slip aan de onderkant voor éxtra speelplezier. Je kunt al een paar kopen voor € 3,50.</p><p>Werken bij Hullie<br />Hullie in Uden is op dit moment op zoek naar nieuwe collega’s voor in de afwaskeuken, toezichthouder óf in de bediening. Vanaf 15 jaar kun je bij Hullie al terecht voor een uitdagend bijbaantje in de afwaskeuken. Daarna kun je doorgroeien richting de bediening. Ken of ben jij iemand die op zoek is naar een leuke bijbaan voor in het weekend of tijdens de vakanties?</p><p>Meer over Hullie <a href="https://hullie.nl" rel="noopener noreferrer" target="_blank">vind je hier...</a></p>
LAST-MODIFIED:20260420T042704Z
LOCATION: Hullie  | Canadasweg 3a Uden
SEQUENCE:0
STATUS:CONFIRMED
SUMMARY:Kom naar Hullie in de meivakantie!
TRANSP:OPAQUE
END:VEVENT
END:VCALENDAR
