BEGIN:VCALENDAR
PRODID:-//PUBBLE//agenda//NL
VERSION:2.0
METHOD:PUBLISH
BEGIN:VEVENT
DTSTART:20260413T095517Z
DTEND:20260413T105517Z
DTSTAMP:20260422T033202Z
UID:65a2e67f-affd-409f-b17f-ace0b420fe0a
CREATED:20260422T033202Z
NAME:Heropening zadenbieb ‘Bloemhoek’ mooibernheze.nl
X-WR-CALNAME:Heropening zadenbieb ‘Bloemhoek’
X-ALT-DESC;FMTTYPE=text/html:<a href='/agenda/2026/4/22/heropening-zadenbieb-bloemhoek-77710'>/agenda/2026/4/22/heropening-zadenbieb-bloemhoek-77710</a> || <p>HEESCH - In de Broekhoek, op de parkeerplaats van nummer 35, werd op woensdag 22 april de zadenbieb heropend. Deze zadenbieb is een bibliotheek in de vorm van een kast waar je zaden leent en weer terugbrengt wanneer je de zaden geoogst hebt. &nbsp;</p><p>Iedereen kan er een zakje bloemenzaad, of een paar verschillende zakjes, meenemen en thuis zaaien. Je brengt later een deel van de geoogste zaden weer terug door ze in de kast te leggen. Andere zaden doneren mag ook. Als dat niet lukt, kun je ook een financiële bijdrage doen.&nbsp;</p><p>De zadenbieb wordt om 10.30 uur heropend. Vorig jaar is op 22 april, dus op Nationale Zaaidag, de zadenbieb voor het eerst geopend. Na een winterperiode is het nu weer tijd om te starten. Het initiatief draagt bij tot meer diversiteit in de wijk, meer insecten, meer kleur en mooie vlinders. <br><br>In de kast kun je ook zaden vinden van The Pollinators, de voedselbank voor bijen. Voor meer informatie ga je naar www.voerdebijbij.nl/voedselbanken of <a href="//www.pollinatorpad.nl">www.pollinatorpad.nl</a>.</p><p>Iedereen is uitgenodigd om de kast te bekijken en er gebruik van te maken. Voor meer informatie mail je naar <a href="mailto:geertjevdstappen@gmail.com">geertjevdstappen@gmail.com</a>.</p>
DESCRIPTION:<a href='/agenda/2026/4/22/heropening-zadenbieb-bloemhoek-77710'>/agenda/2026/4/22/heropening-zadenbieb-bloemhoek-77710</a> || <p>HEESCH - In de Broekhoek, op de parkeerplaats van nummer 35, werd op woensdag 22 april de zadenbieb heropend. Deze zadenbieb is een bibliotheek in de vorm van een kast waar je zaden leent en weer terugbrengt wanneer je de zaden geoogst hebt. &nbsp;</p><p>Iedereen kan er een zakje bloemenzaad, of een paar verschillende zakjes, meenemen en thuis zaaien. Je brengt later een deel van de geoogste zaden weer terug door ze in de kast te leggen. Andere zaden doneren mag ook. Als dat niet lukt, kun je ook een financiële bijdrage doen.&nbsp;</p><p>De zadenbieb wordt om 10.30 uur heropend. Vorig jaar is op 22 april, dus op Nationale Zaaidag, de zadenbieb voor het eerst geopend. Na een winterperiode is het nu weer tijd om te starten. Het initiatief draagt bij tot meer diversiteit in de wijk, meer insecten, meer kleur en mooie vlinders. <br><br>In de kast kun je ook zaden vinden van The Pollinators, de voedselbank voor bijen. Voor meer informatie ga je naar www.voerdebijbij.nl/voedselbanken of <a href="//www.pollinatorpad.nl">www.pollinatorpad.nl</a>.</p><p>Iedereen is uitgenodigd om de kast te bekijken en er gebruik van te maken. Voor meer informatie mail je naar <a href="mailto:geertjevdstappen@gmail.com">geertjevdstappen@gmail.com</a>.</p>
LAST-MODIFIED:20260422T033202Z
LOCATION: Zadenbieb | Broekhoek 35 Heesch
SEQUENCE:0
STATUS:CONFIRMED
SUMMARY:Heropening zadenbieb ‘Bloemhoek’
TRANSP:OPAQUE
END:VEVENT
END:VCALENDAR
