BEGIN:VCALENDAR
PRODID:-//PUBBLE//agenda//NL
VERSION:2.0
METHOD:PUBLISH
BEGIN:VEVENT
DTSTART:20260413T084221Z
DTEND:20260413T094221Z
DTSTAMP:20260424T145623Z
UID:b37503c3-5a4d-4092-9fa1-3126e2ff25e6
CREATED:20260424T145623Z
NAME:Zomerbridgen bij BC de Klotbeek: doe je mee? mooibernheze.nl
X-WR-CALNAME:Zomerbridgen bij BC de Klotbeek: doe je mee?
X-ALT-DESC;FMTTYPE=text/html:<a href='/agenda/2026/7/6/zomerbridgen-bij-bc-de-klotbeek-doe-je-mee--77671'>/agenda/2026/7/6/zomerbridgen-bij-bc-de-klotbeek-doe-je-mee--77671</a> || <p>HEESWIJK-DINTHER - Zin in een gezellige én actieve zomeravond? Dan ben je van harte welkom bij het zomerbridgen van bridgeclub de Klotbeek in Heeswijk-Dinther. Op acht maandagavonden – van 22 juni tot en met 31 augustus (met uitzondering van 20 en 27 juli en 3 augustus vanwege de zomersluiting van CC Servaes) – kun je meespelen.Je start om 19.30 uur en speelt zes rondes van vier spellen. Inschrijven kan vanaf 18.45 uur tot uiterlijk 19.15 uur. De locatie is CC Servaes. Let op: vol is vol!&nbsp;</p><p>Of je nu ervaren bent of gewoon zin hebt in een ontspannen avond kaarten: het zomerbridgen is leuk, gezellig en het houdt je lekker actief in de zomermaanden. Ben je lid van de NBB? Dan betaal je € 2,50 per persoon (neem je lidnummer mee). Ben je geen lid, dan bedraagt de bijdrage € 3,50 per persoon. Graag gepast betalen. Je kunt bovendien meesterpunten verdienen.</p><p>Wil je meer weten over de club? Kijk dan op www.bcdeklotbeek.nl. Voor vragen of opmerkingen kun je mailen naar bc<a href="mailto:klotbeek@gmail.com">klotbeek@gmail.com</a>. Het bestuur van BC de Klotbeek hoopt je deze zomer te zien aan de bridgetafel en wenst je alvast veel speelplezier!<br><br></p>
DESCRIPTION:<a href='/agenda/2026/7/6/zomerbridgen-bij-bc-de-klotbeek-doe-je-mee--77671'>/agenda/2026/7/6/zomerbridgen-bij-bc-de-klotbeek-doe-je-mee--77671</a> || <p>HEESWIJK-DINTHER - Zin in een gezellige én actieve zomeravond? Dan ben je van harte welkom bij het zomerbridgen van bridgeclub de Klotbeek in Heeswijk-Dinther. Op acht maandagavonden – van 22 juni tot en met 31 augustus (met uitzondering van 20 en 27 juli en 3 augustus vanwege de zomersluiting van CC Servaes) – kun je meespelen.Je start om 19.30 uur en speelt zes rondes van vier spellen. Inschrijven kan vanaf 18.45 uur tot uiterlijk 19.15 uur. De locatie is CC Servaes. Let op: vol is vol!&nbsp;</p><p>Of je nu ervaren bent of gewoon zin hebt in een ontspannen avond kaarten: het zomerbridgen is leuk, gezellig en het houdt je lekker actief in de zomermaanden. Ben je lid van de NBB? Dan betaal je € 2,50 per persoon (neem je lidnummer mee). Ben je geen lid, dan bedraagt de bijdrage € 3,50 per persoon. Graag gepast betalen. Je kunt bovendien meesterpunten verdienen.</p><p>Wil je meer weten over de club? Kijk dan op www.bcdeklotbeek.nl. Voor vragen of opmerkingen kun je mailen naar bc<a href="mailto:klotbeek@gmail.com">klotbeek@gmail.com</a>. Het bestuur van BC de Klotbeek hoopt je deze zomer te zien aan de bridgetafel en wenst je alvast veel speelplezier!<br><br></p>
LAST-MODIFIED:20260424T145623Z
LOCATION: CC Servaes | Raadhuisplein 24 Heeswijk-Dinther
SEQUENCE:0
STATUS:CONFIRMED
SUMMARY:Zomerbridgen bij BC de Klotbeek: doe je mee?
TRANSP:OPAQUE
END:VEVENT
END:VCALENDAR
