BEGIN:VCALENDAR
PRODID:-//PUBBLE//agenda//NL
VERSION:2.0
METHOD:PUBLISH
BEGIN:VEVENT
DTSTART:20260413T083913Z
DTEND:20260413T093913Z
DTSTAMP:20260423T112454Z
UID:bb652301-3e8a-49b4-9909-0e392a9a1626
CREATED:20260423T112454Z
NAME:Koffieochtend over Kasteel Heeswijk georganiseerd door Senioren HDL mooibernheze.nl
X-WR-CALNAME:Koffieochtend over Kasteel Heeswijk georganiseerd door Senioren HDL
X-ALT-DESC;FMTTYPE=text/html:<a href='/agenda/2026/4/23/koffieochtend-over-kasteel-heeswijk-georganiseerd-door-senioren-hdl-77668'>/agenda/2026/4/23/koffieochtend-over-kasteel-heeswijk-georganiseerd-door-senioren-hdl-77668</a> || <p>HEESWIJK-DINTHER - Luc Eekhout - directeur van Kasteel Heeswijk - is donderdag 23 april te gast in CC Servaes voor een lezing. Deze lezing wordt georganiseerd door Senioren Heeswijk-Dinther en Senioren Loosbroek.&nbsp;</p><p>Een Middeleeuws kasteel in de 21ste eeuw. Hoe houd je dat in stand?<br>Het kasteel ligt er al zo’n 1000 jaar, kent een lange, roerige geschiedenis en was door zijn strategische ligging en rijke bezittingen een belangrijke plek in de regio. Het is gelegen in de bosrijke omgeving van het stroomdal van de rivier de Aa en dus een ideaal startpunt voor een wandeling of fietstocht. <br>In Heeswijk-Dinther is het kasteel niet weg te denken uit het landschap. Verhalen van ridders en jonkvrouwen, baronnen en baronessen zijn er volop. Nog steeds zijn er velen in het dorp die de laatste baron en barones hebben gekend. En nu? Een trouwkasteel? Een museum? Een fijne werkplek voor vrijwilligers?</p><p>Luc Eekhout, de ‘kasteelheer’ sinds 2015, kan de aanwezigen vertellen wat het kasteel de laatste jaren voor veranderingen heeft doorgemaakt en wat de toekomstplannen zijn. Duizend jaar kasteelgeschiedenis betekent zeker niet een stoffig monument! Centraal staat altijd dat het kasteel van waarde moet zijn voor de mensen die eromheen wonen. Duizend jaar, vijftig generaties HD’ers en volgende generaties zullen ook van het kasteel kunnen genieten.<br><br>Kortom, het wordt een boeiende ochtend die om 10.00 uur begint. Iedereen is van harte welkom, ook niet-leden. Koffie en thee zijn gratis.</p>
DESCRIPTION:<a href='/agenda/2026/4/23/koffieochtend-over-kasteel-heeswijk-georganiseerd-door-senioren-hdl-77668'>/agenda/2026/4/23/koffieochtend-over-kasteel-heeswijk-georganiseerd-door-senioren-hdl-77668</a> || <p>HEESWIJK-DINTHER - Luc Eekhout - directeur van Kasteel Heeswijk - is donderdag 23 april te gast in CC Servaes voor een lezing. Deze lezing wordt georganiseerd door Senioren Heeswijk-Dinther en Senioren Loosbroek.&nbsp;</p><p>Een Middeleeuws kasteel in de 21ste eeuw. Hoe houd je dat in stand?<br>Het kasteel ligt er al zo’n 1000 jaar, kent een lange, roerige geschiedenis en was door zijn strategische ligging en rijke bezittingen een belangrijke plek in de regio. Het is gelegen in de bosrijke omgeving van het stroomdal van de rivier de Aa en dus een ideaal startpunt voor een wandeling of fietstocht. <br>In Heeswijk-Dinther is het kasteel niet weg te denken uit het landschap. Verhalen van ridders en jonkvrouwen, baronnen en baronessen zijn er volop. Nog steeds zijn er velen in het dorp die de laatste baron en barones hebben gekend. En nu? Een trouwkasteel? Een museum? Een fijne werkplek voor vrijwilligers?</p><p>Luc Eekhout, de ‘kasteelheer’ sinds 2015, kan de aanwezigen vertellen wat het kasteel de laatste jaren voor veranderingen heeft doorgemaakt en wat de toekomstplannen zijn. Duizend jaar kasteelgeschiedenis betekent zeker niet een stoffig monument! Centraal staat altijd dat het kasteel van waarde moet zijn voor de mensen die eromheen wonen. Duizend jaar, vijftig generaties HD’ers en volgende generaties zullen ook van het kasteel kunnen genieten.<br><br>Kortom, het wordt een boeiende ochtend die om 10.00 uur begint. Iedereen is van harte welkom, ook niet-leden. Koffie en thee zijn gratis.</p>
LAST-MODIFIED:20260423T112454Z
LOCATION: CC Servaes | Raadhuisplein 24 Heeswijk-Dinther
SEQUENCE:0
STATUS:CONFIRMED
SUMMARY:Koffieochtend over Kasteel Heeswijk georganiseerd door Senioren HDL
TRANSP:OPAQUE
END:VEVENT
END:VCALENDAR
