BEGIN:VCALENDAR
PRODID:-//PUBBLE//agenda//NL
VERSION:2.0
METHOD:PUBLISH
BEGIN:VEVENT
DTSTART:20260413T082208Z
DTEND:20260829T220100Z
DTSTAMP:20260424T164850Z
UID:77939ec1-5333-45b8-809a-a4ffebb95ec7
CREATED:20260424T164850Z
NAME:24-uurs Solexrace Festival mooibernheze.nl
X-WR-CALNAME:24-uurs Solexrace Festival
X-ALT-DESC;FMTTYPE=text/html:<a href='/agenda/2026/8/27/24-uurs-solexrace-festival-77661'>/agenda/2026/8/27/24-uurs-solexrace-festival-77661</a> || <p>Voor informatie en tickets: <a href="//www.24uurssolexrace.nl">www.24uurssolexrace.nl</a>. Check ook Facebook, Instagram, TikTok en YouTube!</p>
DESCRIPTION:<a href='/agenda/2026/8/27/24-uurs-solexrace-festival-77661'>/agenda/2026/8/27/24-uurs-solexrace-festival-77661</a> || <p>Voor informatie en tickets: <a href="//www.24uurssolexrace.nl">www.24uurssolexrace.nl</a>. Check ook Facebook, Instagram, TikTok en YouTube!</p>
LAST-MODIFIED:20260424T164850Z
LOCATION: Stanserhorn | Heibloemsedijk 7 Heeswijk-Dinther
SEQUENCE:0
STATUS:CONFIRMED
SUMMARY:24-uurs Solexrace Festival
TRANSP:OPAQUE
END:VEVENT
END:VCALENDAR
