BEGIN:VCALENDAR
PRODID:-//PUBBLE//agenda//NL
VERSION:2.0
METHOD:PUBLISH
BEGIN:VEVENT
DTSTART:20260412T211616Z
DTEND:20260412T221616Z
DTSTAMP:20260424T112217Z
UID:92cae8dc-4985-4c53-b3fb-2ea578087f0a
CREATED:20260424T112217Z
NAME:Koningsdag in Bernheze: Nistelrode mooibernheze.nl
X-WR-CALNAME:Koningsdag in Bernheze: Nistelrode
X-ALT-DESC;FMTTYPE=text/html:<a href='/agenda/2026/4/27/koningsdag-in-bernheze-nistelrode-77658'>/agenda/2026/4/27/koningsdag-in-bernheze-nistelrode-77658</a> || <p>NISTELRODE - Het belooft een gezellige ochtend te worden op Koningsdag op en rond het Raadhuisplein in Nistelrode! Stichting Jeugdbelangen Nistelrode heeft een mooi programma samengesteld voor alle kinderen uit Nistelrode.</p><p>10.00 uur openen we de viering van Koningsdag met medewerking van het Oranjecomité, Muziekvereniging Animato, gilde Sint Antonius Abt – Sint Catharina, wethouder Rien Wijdeven en onze eigen Bob en Gemma.</p><p><strong>Spellencircuit</strong><br />Zodra de vlaggen gehesen zijn, is het tijd om te starten met het spellencircuit. Er is van alles te beleven! Bijvoorbeeld diverse Oud-Hollandse spelen en een luchtkussen speciaal voor peuters en kleuters. Houd jij van wat meer actie? Speel dan een potje levend tafelvoetbal, ga de strijd aan op de stormbaan of probeer de top van de klimtoren te bereiken. De kinderen kunnen de spellen spelen met een vriend(in) of broer/zus. Ben je alleen? Ook dan kun je meedoen! Zodra het aantal deelnemers om het spel te spelen bereikt is, kan het spel van start gaan. De spelbegeleider zal dit begeleiden.</p><p><strong>Dansje wagen?</strong><br />Bij feesten hoort ook lekker dansen! Deze ochtend kun je je dansmoves prima laten zien. Onze dj draait de nummers en jij kunt bij het limbodansen laten zien hoe lenig je bent. We sluiten de ochtend omstreeks 12.45 uur swingend af door met alle kinderen lekker te dansen en zingen op het nummer ‘Ola ole olee’; de Koningsdans van 2026. Natuurlijk spelen en dansen de iconen van Stichting Jeugdbelangen, Bob en Gemma, lekker mee! Zorg dat je er bij bent!</p><p><strong>Ranja in je eigen oranje beker<br /></strong>Tevens is het vanaf 10.00 uur mogelijk om voor € 3,- een braskaart met oranje beker te kopen. Met deze braskaart kun je tijdens het spelen van de spellen wat lekkers halen (broodje knakworst, fruit en ranja/water) en tevens kun je deze inzetten als je geschminkt wil worden of een leuke glittertattoo wil. Bij de aankoop van de braskaart krijg je een stevige oranje beker die je de hele ochtend kunt gebruiken om wat drinken te halen. De beker blijft van jou, na afloop neem je hem mee naar huis waar je hem ook nog kunt gebruiken. Zo zorgen we er samen voor dat we minder afval produceren.</p><p>Vragen of zin om ons te helpen bij de begeleiding van een spel? Neem contact op met de organisatie via <a href="mailto:koningsdagnistelrode@hotmail.com">koningsdagnistelrode@hotmail.com</a>.</p>
DESCRIPTION:<a href='/agenda/2026/4/27/koningsdag-in-bernheze-nistelrode-77658'>/agenda/2026/4/27/koningsdag-in-bernheze-nistelrode-77658</a> || <p>NISTELRODE - Het belooft een gezellige ochtend te worden op Koningsdag op en rond het Raadhuisplein in Nistelrode! Stichting Jeugdbelangen Nistelrode heeft een mooi programma samengesteld voor alle kinderen uit Nistelrode.</p><p>10.00 uur openen we de viering van Koningsdag met medewerking van het Oranjecomité, Muziekvereniging Animato, gilde Sint Antonius Abt – Sint Catharina, wethouder Rien Wijdeven en onze eigen Bob en Gemma.</p><p><strong>Spellencircuit</strong><br />Zodra de vlaggen gehesen zijn, is het tijd om te starten met het spellencircuit. Er is van alles te beleven! Bijvoorbeeld diverse Oud-Hollandse spelen en een luchtkussen speciaal voor peuters en kleuters. Houd jij van wat meer actie? Speel dan een potje levend tafelvoetbal, ga de strijd aan op de stormbaan of probeer de top van de klimtoren te bereiken. De kinderen kunnen de spellen spelen met een vriend(in) of broer/zus. Ben je alleen? Ook dan kun je meedoen! Zodra het aantal deelnemers om het spel te spelen bereikt is, kan het spel van start gaan. De spelbegeleider zal dit begeleiden.</p><p><strong>Dansje wagen?</strong><br />Bij feesten hoort ook lekker dansen! Deze ochtend kun je je dansmoves prima laten zien. Onze dj draait de nummers en jij kunt bij het limbodansen laten zien hoe lenig je bent. We sluiten de ochtend omstreeks 12.45 uur swingend af door met alle kinderen lekker te dansen en zingen op het nummer ‘Ola ole olee’; de Koningsdans van 2026. Natuurlijk spelen en dansen de iconen van Stichting Jeugdbelangen, Bob en Gemma, lekker mee! Zorg dat je er bij bent!</p><p><strong>Ranja in je eigen oranje beker<br /></strong>Tevens is het vanaf 10.00 uur mogelijk om voor € 3,- een braskaart met oranje beker te kopen. Met deze braskaart kun je tijdens het spelen van de spellen wat lekkers halen (broodje knakworst, fruit en ranja/water) en tevens kun je deze inzetten als je geschminkt wil worden of een leuke glittertattoo wil. Bij de aankoop van de braskaart krijg je een stevige oranje beker die je de hele ochtend kunt gebruiken om wat drinken te halen. De beker blijft van jou, na afloop neem je hem mee naar huis waar je hem ook nog kunt gebruiken. Zo zorgen we er samen voor dat we minder afval produceren.</p><p>Vragen of zin om ons te helpen bij de begeleiding van een spel? Neem contact op met de organisatie via <a href="mailto:koningsdagnistelrode@hotmail.com">koningsdagnistelrode@hotmail.com</a>.</p>
LAST-MODIFIED:20260424T112217Z
LOCATION: Raadhuisplein |   Nistelrode
SEQUENCE:0
STATUS:CONFIRMED
SUMMARY:Koningsdag in Bernheze: Nistelrode
TRANSP:OPAQUE
END:VEVENT
END:VCALENDAR
