BEGIN:VCALENDAR
PRODID:-//PUBBLE//agenda//NL
VERSION:2.0
METHOD:PUBLISH
BEGIN:VEVENT
DTSTART:20260412T205230Z
DTEND:20260412T215230Z
DTSTAMP:20260424T112213Z
UID:6a28b78e-bcea-44f4-92c8-ce8782535bb1
CREATED:20260424T112213Z
NAME:Nacht van de Koning @ PARTY17! mooibernheze.nl
X-WR-CALNAME:Nacht van de Koning @ PARTY17!
X-ALT-DESC;FMTTYPE=text/html:<a href='/agenda/2026/4/24/nacht-van-de-koning-party17--77643'>/agenda/2026/4/24/nacht-van-de-koning-party17--77643</a> || <p>HEESWIJK-DINTHER –Vrijdag 24 april is het bij PARTY17 in Heeswijk-Dinther vanaf 19.30 uur de avond/nacht van de Koning óf Koningin! Een avond oranje boven met muziek, gezelligheid en een paar ludieke kroningsactiviteiten Een hilarische 18+ avond waarop uiteraard ook met de voetjes van de vloer gegaan kan worden. De toegang en het welkomstdrankje zijn gratis.&nbsp;</p><p>Heb jij je altijd al eens koninklijk willen voelen en gekroond willen worden? Dat kan vrijdag 24 april, want dan is PARTY17 helemaal in oranjesferen tijdens de Nacht van de Koning(in). Een avond waarop na deelname aan slechts een paar activiteiten, de winnaar of winnares ervan gekroond en uitgeroepen wordt tot Koning of Koningin van de Nacht 2026. Deelnemen móet niet, dat mág.&nbsp;</p><p>Een avond gekkigheid aan het handje en met muziek van dj/zanger Sébastiaan. Na een ludieke 18+ toegangscontrole staat er een kosteloos welkomstdrankje klaar en wacht er plezier en vertier.&nbsp;</p><p>&nbsp;www.party17.nl – volg de socials en deze krant!&nbsp;</p>
DESCRIPTION:<a href='/agenda/2026/4/24/nacht-van-de-koning-party17--77643'>/agenda/2026/4/24/nacht-van-de-koning-party17--77643</a> || <p>HEESWIJK-DINTHER –Vrijdag 24 april is het bij PARTY17 in Heeswijk-Dinther vanaf 19.30 uur de avond/nacht van de Koning óf Koningin! Een avond oranje boven met muziek, gezelligheid en een paar ludieke kroningsactiviteiten Een hilarische 18+ avond waarop uiteraard ook met de voetjes van de vloer gegaan kan worden. De toegang en het welkomstdrankje zijn gratis.&nbsp;</p><p>Heb jij je altijd al eens koninklijk willen voelen en gekroond willen worden? Dat kan vrijdag 24 april, want dan is PARTY17 helemaal in oranjesferen tijdens de Nacht van de Koning(in). Een avond waarop na deelname aan slechts een paar activiteiten, de winnaar of winnares ervan gekroond en uitgeroepen wordt tot Koning of Koningin van de Nacht 2026. Deelnemen móet niet, dat mág.&nbsp;</p><p>Een avond gekkigheid aan het handje en met muziek van dj/zanger Sébastiaan. Na een ludieke 18+ toegangscontrole staat er een kosteloos welkomstdrankje klaar en wacht er plezier en vertier.&nbsp;</p><p>&nbsp;www.party17.nl – volg de socials en deze krant!&nbsp;</p>
LAST-MODIFIED:20260424T112213Z
LOCATION: PARTY17 | Schoolstraat 17 Heeswijk-Dinther
SEQUENCE:0
STATUS:CONFIRMED
SUMMARY:Nacht van de Koning @ PARTY17!
TRANSP:OPAQUE
END:VEVENT
END:VCALENDAR
