BEGIN:VCALENDAR
PRODID:-//PUBBLE//agenda//NL
VERSION:2.0
METHOD:PUBLISH
BEGIN:VEVENT
DTSTART:20260412T175655Z
DTEND:20260418T113000Z
DTSTAMP:20260420T104448Z
UID:66272bcc-7946-44b8-a5ee-2db9ed637518
CREATED:20260420T104448Z
NAME:Yopper Parkinson activiteiten mooibernheze.nl
X-WR-CALNAME:Yopper Parkinson activiteiten
X-ALT-DESC;FMTTYPE=text/html:<a href='/agenda/2026/4/18/yopper-parkinson-activiteiten-77618'>/agenda/2026/4/18/yopper-parkinson-activiteiten-77618</a> || <p><em>Koken, wandelen en/of gezelschapsspelletjes doen</em></p><p>VEGHEL - Voor mensen die op jongere leeftijd zijn gediagnosticeerd met de Parkinson of een aanverwante aandoening wordt periodiek een leuke en ontspannen dag georganiseerd waar niet alleen zij, maar ook familie, mantelzorgers en andere betrokkenen van harte welkom zijn. De organisatie is in handen van werkgroep Parkinson Yoppers Maashorst-Noordoost-Brabant.</p><p>Zaterdag 18 april is er van 10.00 tot 13.30 uur een bijeenkomst in het PieterBreugeHuis aan Middegaal 25 in Veghel. Om aan te melden of meer informatie te verkrijgen ben of mail je naar: 06-38932630 / 06-12655813 of&nbsp;<a data-fr-linked="true" href="mailto:brabant.yoppers@gmail.com">brabant.yoppers@gmail.com</a>. De toegang is gratis en is inclusief lunch en koffie/thee.</p>
DESCRIPTION:<a href='/agenda/2026/4/18/yopper-parkinson-activiteiten-77618'>/agenda/2026/4/18/yopper-parkinson-activiteiten-77618</a> || <p><em>Koken, wandelen en/of gezelschapsspelletjes doen</em></p><p>VEGHEL - Voor mensen die op jongere leeftijd zijn gediagnosticeerd met de Parkinson of een aanverwante aandoening wordt periodiek een leuke en ontspannen dag georganiseerd waar niet alleen zij, maar ook familie, mantelzorgers en andere betrokkenen van harte welkom zijn. De organisatie is in handen van werkgroep Parkinson Yoppers Maashorst-Noordoost-Brabant.</p><p>Zaterdag 18 april is er van 10.00 tot 13.30 uur een bijeenkomst in het PieterBreugeHuis aan Middegaal 25 in Veghel. Om aan te melden of meer informatie te verkrijgen ben of mail je naar: 06-38932630 / 06-12655813 of&nbsp;<a data-fr-linked="true" href="mailto:brabant.yoppers@gmail.com">brabant.yoppers@gmail.com</a>. De toegang is gratis en is inclusief lunch en koffie/thee.</p>
LAST-MODIFIED:20260420T104448Z
LOCATION: PieterBrueghelHuis | Middegaal 25 Veghel
SEQUENCE:0
STATUS:CONFIRMED
SUMMARY:Yopper Parkinson activiteiten
TRANSP:OPAQUE
END:VEVENT
END:VCALENDAR
