BEGIN:VCALENDAR
PRODID:-//PUBBLE//agenda//NL
VERSION:2.0
METHOD:PUBLISH
BEGIN:VEVENT
DTSTART:20260409T084932Z
DTEND:20260731T130000Z
DTSTAMP:20260424T151453Z
UID:d5c06c18-b0bf-4667-a6cd-9a18fc95ffdb
CREATED:20260424T151453Z
NAME:Efkes buurte mooibernheze.nl
X-WR-CALNAME:Efkes buurte
X-ALT-DESC;FMTTYPE=text/html:<a href='/agenda/2026/7/31/efkes-buurte-77555'>/agenda/2026/7/31/efkes-buurte-77555</a> || <p>Even bijpraten, nieuwe mensen ontmoeten of gewoon gezellig een kop koffie drinken. Met dat idee start Stichting Dorpsraad Nistelrode met ‘Efkes Buurte’, een laagdrempelig koffiemoment voor alle inwoners van Nistelrode.</p><p>Iedereen is welkom om vrijblijvend binnen te lopen bij CC&nbsp;Nesterlé. Het doel is simpel: inwoners met elkaar in contact brengen en de verbondenheid in het dorp versterken. Soms ken je elkaar al jaren, soms leer je iemand voor het eerst kennen. Een praatje, een lach en een kop koffie doen vaak al veel. Ook als je het lastig vindt om zomaar binnen te lopen, maar je kunt de aanspraak goed gebruiken? Mail dan even naar contact@dorpsraadnistelrode.nl, dan krijg je te horen wie er zal zijn en wordt je ontvangen.<br />Ook is er ‘Nistelrode Vervoer’ mocht het lastig zijn om zelf te komen, neem dan contact op via 06-16049031.</p><p>Tijdens elk koffiemoment is er minimaal één lid van de Dorpsraad aanwezig. Bezoekers krijgen bovendien twee consumpties aangeboden door Dorpsraad Nistelrode. Efkes Buurte vindt voortaan twee keer per maand plaats; elke tweede vrijdag van de maand van 14.00 tot 15.00 uur en elke laatste woensdag van de maand van 10.30 tot 11.30 uur</p><p>Loop gerust binnen, alleen of samen met iemand. In Nistelrode is het tenslotte altijd goed om efkes te buurte!</p>
DESCRIPTION:<a href='/agenda/2026/7/31/efkes-buurte-77555'>/agenda/2026/7/31/efkes-buurte-77555</a> || <p>Even bijpraten, nieuwe mensen ontmoeten of gewoon gezellig een kop koffie drinken. Met dat idee start Stichting Dorpsraad Nistelrode met ‘Efkes Buurte’, een laagdrempelig koffiemoment voor alle inwoners van Nistelrode.</p><p>Iedereen is welkom om vrijblijvend binnen te lopen bij CC&nbsp;Nesterlé. Het doel is simpel: inwoners met elkaar in contact brengen en de verbondenheid in het dorp versterken. Soms ken je elkaar al jaren, soms leer je iemand voor het eerst kennen. Een praatje, een lach en een kop koffie doen vaak al veel. Ook als je het lastig vindt om zomaar binnen te lopen, maar je kunt de aanspraak goed gebruiken? Mail dan even naar contact@dorpsraadnistelrode.nl, dan krijg je te horen wie er zal zijn en wordt je ontvangen.<br />Ook is er ‘Nistelrode Vervoer’ mocht het lastig zijn om zelf te komen, neem dan contact op via 06-16049031.</p><p>Tijdens elk koffiemoment is er minimaal één lid van de Dorpsraad aanwezig. Bezoekers krijgen bovendien twee consumpties aangeboden door Dorpsraad Nistelrode. Efkes Buurte vindt voortaan twee keer per maand plaats; elke tweede vrijdag van de maand van 14.00 tot 15.00 uur en elke laatste woensdag van de maand van 10.30 tot 11.30 uur</p><p>Loop gerust binnen, alleen of samen met iemand. In Nistelrode is het tenslotte altijd goed om efkes te buurte!</p>
LAST-MODIFIED:20260424T151453Z
LOCATION: CC Nesterlé | Parkstraat 2 Nistelrode
SEQUENCE:0
STATUS:CONFIRMED
SUMMARY:Efkes buurte
TRANSP:OPAQUE
END:VEVENT
END:VCALENDAR
