BEGIN:VCALENDAR
PRODID:-//PUBBLE//agenda//NL
VERSION:2.0
METHOD:PUBLISH
BEGIN:VEVENT
DTSTART:20260829T080000Z
DTEND:20260829T140000Z
DTSTAMP:20260424T164938Z
UID:c94e1f88-ad5b-48a2-9427-cb07c60ab40b
CREATED:20260424T164938Z
NAME:Workshop Tcheud met Kangling beoefening mooibernheze.nl
X-WR-CALNAME:Workshop Tcheud met Kangling beoefening
X-ALT-DESC;FMTTYPE=text/html:<a href='/agenda/2026/8/29/workshop-tcheud-met-kangling-beoefening-75317'>/agenda/2026/8/29/workshop-tcheud-met-kangling-beoefening-75317</a> || <p>Workshop in de Tibetaans Boeddhistische Tempel Karma Eusel Ling Vorstenbosch onder leiding van Lama Karma Tcheudjoeng. Data en tijden altijd even telefonisch checken</p><p>Tijdens het Tcheud ritueel wordt energetische transformatie van het bewustzijn in gang gezet. Hierbij worden klanken gebruikt, een oude wijze om energie op te wekken. Het is de bedoeling om zoveel mogelijk trillingen op gang te brengen. Bij de belangrijkste passage in de Tcheud zwijgt de bel en versnelt het ritme met de damaroe, met de kangling (dijbeentrompet) brengt men dit tot een climax. De Boeddha-dakini, beschermers-goden uit de leegte, worden opgeroepen. Vraag ze plaats te nemen of stuur ze weg. Tijdens het blazen op de kangling verzamelen zich de vijf Dhyani Boeddha’s van de vijf Boeddhafamilies. De visualisatie tijdens de beoefening versterkt de energetische transformatie, deze lering is voor gevorderden.</p><p>Meer informatie<a href="https://karmaeuselling.nl/" rel="noopener noreferrer" target="_blank"> vind je hier....</a></p>
DESCRIPTION:<a href='/agenda/2026/8/29/workshop-tcheud-met-kangling-beoefening-75317'>/agenda/2026/8/29/workshop-tcheud-met-kangling-beoefening-75317</a> || <p>Workshop in de Tibetaans Boeddhistische Tempel Karma Eusel Ling Vorstenbosch onder leiding van Lama Karma Tcheudjoeng. Data en tijden altijd even telefonisch checken</p><p>Tijdens het Tcheud ritueel wordt energetische transformatie van het bewustzijn in gang gezet. Hierbij worden klanken gebruikt, een oude wijze om energie op te wekken. Het is de bedoeling om zoveel mogelijk trillingen op gang te brengen. Bij de belangrijkste passage in de Tcheud zwijgt de bel en versnelt het ritme met de damaroe, met de kangling (dijbeentrompet) brengt men dit tot een climax. De Boeddha-dakini, beschermers-goden uit de leegte, worden opgeroepen. Vraag ze plaats te nemen of stuur ze weg. Tijdens het blazen op de kangling verzamelen zich de vijf Dhyani Boeddha’s van de vijf Boeddhafamilies. De visualisatie tijdens de beoefening versterkt de energetische transformatie, deze lering is voor gevorderden.</p><p>Meer informatie<a href="https://karmaeuselling.nl/" rel="noopener noreferrer" target="_blank"> vind je hier....</a></p>
LAST-MODIFIED:20260424T164938Z
LOCATION: Tibetaans Boeddhistische Tempel Karma Eusel Ling Vorstenbosch  | Heuvel 1 Vorstenbosch
SEQUENCE:0
STATUS:CONFIRMED
SUMMARY:Workshop Tcheud met Kangling beoefening
TRANSP:OPAQUE
END:VEVENT
END:VCALENDAR
