BEGIN:VCALENDAR
PRODID:-//PUBBLE//agenda//NL
VERSION:2.0
METHOD:PUBLISH
BEGIN:VEVENT
DTSTART:20260620T080000Z
DTEND:20260620T140000Z
DTSTAMP:20260424T150405Z
UID:5e2aaaab-893b-4b42-8b87-9439b95e4f33
CREATED:20260424T150405Z
NAME:Workshop Mandala beoefening mooibernheze.nl
X-WR-CALNAME:Workshop Mandala beoefening
X-ALT-DESC;FMTTYPE=text/html:<a href='/agenda/2026/6/20/workshop-mandala-beoefening-75313'>/agenda/2026/6/20/workshop-mandala-beoefening-75313</a> || <p>Workshop in de Tibetaans Boeddhistische Tempel Karma Eusel Ling Vorstenbosch onder leiding van Lama Karma Tcheudjoeng. Data en tijden altijd even telefonisch checken</p><p>Mandala is het diagram van het universum. De offerande van de Mandala maakt deel uit van de voorbereidende oefeningen en vindt plaats bij bijzondere gelegenheden. Bovendien, met het oog op de vorm, een zeer extreme visualisatie. Vergezeld met handmatige bewegingen met rijst op de basis van de Mandala. Het is zeer van belang deze praktijk goed te doen en de bewoordingen goed uit te spreken, woorden op de juiste wijze in verband te brengen met de offeranden en hun indeling. In de workshop zal dan ook een beschrijving van deze offerande worden gegeven, welke zal worden toegelicht, een mogelijkheid de Mandala meditatie ten volle te begrijpen. Een tantrische vorm en meditatie die tijd kost. Hiermee hopen we op een verdiepende samenwerking naar inzicht en begrijpen. &nbsp; &nbsp; &nbsp; &nbsp; &nbsp;</p><p>Meer informatie vind je op <a href="https://karmaeuselling.nl/" target="_blank" rel="noopener noreferrer"></a><a href="https://karmaeuselling.nl/" rel="noopener noreferrer" target="_blank">www.karmaeuselling.nl.</a></p>
DESCRIPTION:<a href='/agenda/2026/6/20/workshop-mandala-beoefening-75313'>/agenda/2026/6/20/workshop-mandala-beoefening-75313</a> || <p>Workshop in de Tibetaans Boeddhistische Tempel Karma Eusel Ling Vorstenbosch onder leiding van Lama Karma Tcheudjoeng. Data en tijden altijd even telefonisch checken</p><p>Mandala is het diagram van het universum. De offerande van de Mandala maakt deel uit van de voorbereidende oefeningen en vindt plaats bij bijzondere gelegenheden. Bovendien, met het oog op de vorm, een zeer extreme visualisatie. Vergezeld met handmatige bewegingen met rijst op de basis van de Mandala. Het is zeer van belang deze praktijk goed te doen en de bewoordingen goed uit te spreken, woorden op de juiste wijze in verband te brengen met de offeranden en hun indeling. In de workshop zal dan ook een beschrijving van deze offerande worden gegeven, welke zal worden toegelicht, een mogelijkheid de Mandala meditatie ten volle te begrijpen. Een tantrische vorm en meditatie die tijd kost. Hiermee hopen we op een verdiepende samenwerking naar inzicht en begrijpen. &nbsp; &nbsp; &nbsp; &nbsp; &nbsp;</p><p>Meer informatie vind je op <a href="https://karmaeuselling.nl/" target="_blank" rel="noopener noreferrer"></a><a href="https://karmaeuselling.nl/" rel="noopener noreferrer" target="_blank">www.karmaeuselling.nl.</a></p>
LAST-MODIFIED:20260424T150405Z
LOCATION: Tibetaans Boeddhistische Tempel Karma Eusel Ling Vorstenbosch  | Heuvel 1 Vorstenbosch
SEQUENCE:0
STATUS:CONFIRMED
SUMMARY:Workshop Mandala beoefening
TRANSP:OPAQUE
END:VEVENT
END:VCALENDAR
