BEGIN:VCALENDAR
PRODID:-//PUBBLE//agenda//NL
VERSION:2.0
METHOD:PUBLISH
BEGIN:VEVENT
DTSTART:20260508T050000Z
DTEND:20260510T160000Z
DTSTAMP:20260424T151136Z
UID:559a5141-6cf4-4f0d-a232-6ae3f883ba91
CREATED:20260424T151136Z
NAME:Retraite mooibernheze.nl
X-WR-CALNAME:Retraite
X-ALT-DESC;FMTTYPE=text/html:<a href='/agenda/2026/5/8/retraite-75302'>/agenda/2026/5/8/retraite-75302</a> || <p>Driedaagse retraite is een meditatief lang weekend in de Tibetaans Boeddhistische Tempel Karma Eusel Ling Vorstenbosch onder leiding van Lama Karma Tcheudjoeng. Data en tijden altijd even telefonisch checken.&nbsp;</p><p>In het programma kun je Dharma-onderricht, pudja’s, Guru Yoga en meditatie verwachten. Deze dagen worden geleid door Lama Karma Tcheudjoeng. Bij geschikt weer maken we een wandeling in onze mooie omgeving, denk dus aan je wandelschoenen. &nbsp; &nbsp; &nbsp; &nbsp;</p><p>Informeer voor reservering eerst of er nog plaats is en wat je nog meer moet meebrengen: 0413-340320.</p><p><a href="https://karmaeuselling.nl/" rel="noopener noreferrer" target="_blank">Meer informatie vind je hier...</a></p>
DESCRIPTION:<a href='/agenda/2026/5/8/retraite-75302'>/agenda/2026/5/8/retraite-75302</a> || <p>Driedaagse retraite is een meditatief lang weekend in de Tibetaans Boeddhistische Tempel Karma Eusel Ling Vorstenbosch onder leiding van Lama Karma Tcheudjoeng. Data en tijden altijd even telefonisch checken.&nbsp;</p><p>In het programma kun je Dharma-onderricht, pudja’s, Guru Yoga en meditatie verwachten. Deze dagen worden geleid door Lama Karma Tcheudjoeng. Bij geschikt weer maken we een wandeling in onze mooie omgeving, denk dus aan je wandelschoenen. &nbsp; &nbsp; &nbsp; &nbsp;</p><p>Informeer voor reservering eerst of er nog plaats is en wat je nog meer moet meebrengen: 0413-340320.</p><p><a href="https://karmaeuselling.nl/" rel="noopener noreferrer" target="_blank">Meer informatie vind je hier...</a></p>
LAST-MODIFIED:20260424T151136Z
LOCATION: Tibetaans Boeddhistische Tempel Karma Eusel Ling Vorstenbosch  | Heuvel 1 Vorstenbosch
SEQUENCE:0
STATUS:CONFIRMED
SUMMARY:Retraite
TRANSP:OPAQUE
END:VEVENT
END:VCALENDAR
