BEGIN:VCALENDAR
PRODID:-//PUBBLE//agenda//NL
VERSION:2.0
METHOD:PUBLISH
BEGIN:VEVENT
DTSTART:20260723T120000Z
DTEND:20260723T140000Z
DTSTAMP:20260424T151039Z
UID:18be8ae1-ed9f-4aa6-91da-a1ea9373d859
CREATED:20260424T151039Z
NAME:Studiegroep - Leergang mooibernheze.nl
X-WR-CALNAME:Studiegroep - Leergang
X-ALT-DESC;FMTTYPE=text/html:<a href='/agenda/2026/7/23/studiegroep-leergang-75109'>/agenda/2026/7/23/studiegroep-leergang-75109</a> || <p>Maandelijks op donderdagmiddag in de Tibetaans Boeddhistische Tempel Karma Eusel Ling onder leiding van Lama Karma Tcheudjoeng. Data en tijden altijd even telefonisch checken</p><p>Het intuïtief besef van leegte<br />Bij &nbsp;het ware pad denken we aan het ontwikkelen van een direct intuïtief besef van leegte. Dit is niet iets wat we zomaar bereiken. Geestelijke training, discipline en zelfloosheid leiden tot diepe kennis in onszelf en van onszelf. Het ontdekken van wie wij zijn waardoor we bewuster zijn of worden en onszelf bevrijden door inzichten gebaseerd op de groei van het intellectuele begrijpen van leegte, wat deel uitmaakt van het pad van de Boeddha. We zullen in deze leergang (studiegroep) met stappen, onderwerpen als vervolgend weergeven zoals bv Shiha - Samadhhi - Prajana enz. voor het pad: Inzicht - Wijsheid - Zien.</p><p>Meer informatie vind je op <a href="//www.karmaeuselling.nl">www.karmaeuselling.nl</a>.</p>
DESCRIPTION:<a href='/agenda/2026/7/23/studiegroep-leergang-75109'>/agenda/2026/7/23/studiegroep-leergang-75109</a> || <p>Maandelijks op donderdagmiddag in de Tibetaans Boeddhistische Tempel Karma Eusel Ling onder leiding van Lama Karma Tcheudjoeng. Data en tijden altijd even telefonisch checken</p><p>Het intuïtief besef van leegte<br />Bij &nbsp;het ware pad denken we aan het ontwikkelen van een direct intuïtief besef van leegte. Dit is niet iets wat we zomaar bereiken. Geestelijke training, discipline en zelfloosheid leiden tot diepe kennis in onszelf en van onszelf. Het ontdekken van wie wij zijn waardoor we bewuster zijn of worden en onszelf bevrijden door inzichten gebaseerd op de groei van het intellectuele begrijpen van leegte, wat deel uitmaakt van het pad van de Boeddha. We zullen in deze leergang (studiegroep) met stappen, onderwerpen als vervolgend weergeven zoals bv Shiha - Samadhhi - Prajana enz. voor het pad: Inzicht - Wijsheid - Zien.</p><p>Meer informatie vind je op <a href="//www.karmaeuselling.nl">www.karmaeuselling.nl</a>.</p>
LAST-MODIFIED:20260424T151039Z
LOCATION: Tibetaans Boeddhistische Tempel Karma Eusel Ling Vorstenbosch  | Heuvel 1 Vorstenbosch
SEQUENCE:0
STATUS:CONFIRMED
SUMMARY:Studiegroep - Leergang
TRANSP:OPAQUE
END:VEVENT
END:VCALENDAR
