BEGIN:VCALENDAR
PRODID:-//PUBBLE//agenda//NL
VERSION:2.0
METHOD:PUBLISH
BEGIN:VEVENT
DTSTART:20260714T180000Z
DTEND:20260714T200000Z
DTSTAMP:20260424T184548Z
UID:7ee98458-d0b6-4367-995c-4ecda3519844
CREATED:20260424T184548Z
NAME:Guru Yoga mooibernheze.nl
X-WR-CALNAME:Guru Yoga
X-ALT-DESC;FMTTYPE=text/html:<a href='/agenda/2026/7/14/guru-yoga-75088'>/agenda/2026/7/14/guru-yoga-75088</a> || <p>Tweewekelijkse praktijk op dinsdagavond in de Tibetaans Boeddhistische Tempel Karma Eusel Ling onder leiding van Lama Karma Tcheudjoeng. Data en tijden altijd even telefonisch checken</p><p>De yoga van dit pad ligt buiten het gezichtsveld van het intellect en is ongrijpbaar. Hier beoefenen we om geen houvast te hebben aan steunpunten en werken we met de spirituele energie stromen in het lichaam, met uitgebreide visualisaties en meditaties. Dan zien we onze vorderingen die zich voordoen en voltrekken. We zijn niet gebonden aan omslachtige methodes. Het beoefenen van deze praktijk opent ons hart voor de werkelijkheid, sterken we onze geest en leidt het spoor tot het grote Pad.</p><p>Meer informatie vind je op <a href="//www.karmaeuselling.nl">www.karmaeuselling.nl</a>.</p>
DESCRIPTION:<a href='/agenda/2026/7/14/guru-yoga-75088'>/agenda/2026/7/14/guru-yoga-75088</a> || <p>Tweewekelijkse praktijk op dinsdagavond in de Tibetaans Boeddhistische Tempel Karma Eusel Ling onder leiding van Lama Karma Tcheudjoeng. Data en tijden altijd even telefonisch checken</p><p>De yoga van dit pad ligt buiten het gezichtsveld van het intellect en is ongrijpbaar. Hier beoefenen we om geen houvast te hebben aan steunpunten en werken we met de spirituele energie stromen in het lichaam, met uitgebreide visualisaties en meditaties. Dan zien we onze vorderingen die zich voordoen en voltrekken. We zijn niet gebonden aan omslachtige methodes. Het beoefenen van deze praktijk opent ons hart voor de werkelijkheid, sterken we onze geest en leidt het spoor tot het grote Pad.</p><p>Meer informatie vind je op <a href="//www.karmaeuselling.nl">www.karmaeuselling.nl</a>.</p>
LAST-MODIFIED:20260424T184548Z
LOCATION: Tibetaans Boeddhistische Tempel Karma Eusel Ling Vorstenbosch  | Heuvel 1 Vorstenbosch
SEQUENCE:0
STATUS:CONFIRMED
SUMMARY:Guru Yoga
TRANSP:OPAQUE
END:VEVENT
END:VCALENDAR
