BEGIN:VCALENDAR
PRODID:-//PUBBLE//agenda//NL
VERSION:2.0
METHOD:PUBLISH
BEGIN:VEVENT
DTSTART:20260710T120000Z
DTEND:20260710T140000Z
DTSTAMP:20260424T165653Z
UID:351f1f09-bc9c-44d8-b0b6-eb0a966528c2
CREATED:20260424T165653Z
NAME:Stervensbegeleiding (Bardo Thödol) mooibernheze.nl
X-WR-CALNAME:Stervensbegeleiding (Bardo Thödol)
X-ALT-DESC;FMTTYPE=text/html:<a href='/agenda/2026/7/10/stervensbegeleiding-bardo-thodol--75077'>/agenda/2026/7/10/stervensbegeleiding-bardo-thodol--75077</a> || <p>Tweewekelijkse workshop in de Tibetaans Boeddhistische Tempel Karma Eusel Ling. Check altijd even telefonisch datum en tijd! Bewuste begeleiding bij het sterven en de dood onder leiding van Lama Karma Tcheudjoeng.<br />De objectieve en subjectieve beleving van het stervensproces en onze eigen leegte begrijpen en de esssentie van ons ‘zijn’ herkennen.<br />Dit vraagt een diepere kennis en inzicht. Geleerd wordt om de emotie en de tijdsduur van het stervensproces en de naderende dood op een juiste manier te doorleven. Het loslaten van het leven en geruststellen om zonder angst het stervensproces te ondergaan. Ook het loslaten van ons mens-zijn en het herkennen van het heldere licht van ons ‘oorspronkelijk leven’ dat we zijn, is na ons overlijden cruciaal. Op deze wijze iemand te ondersteunen naar de overgave; het bewust worden van het ware wezen dat we zijn en de oorspronkelijke geest in het Heldere Licht, de ware aard van onze transcendente natuur, herkennen. Zo de stervende een waardevolle voorbereiding en ondersteuning naar de dood te kunnen bieden. Deze cursus Stervensbegeleiding is gebaseerd op Het Tibetaans Dodenboek van W.Y. Evans-Wentz en het door Sogyal Rinpoche geschreven Het Tibetaanse boek van Leven en Sterven. Geïnspireerd en begeleid is het essentieel voor het begrip in ons zelf.</p><p>Meer informatie vind je op <a href="//www.karmaeuselling.nl">www.karmaeuselling.nl</a>.</p>
DESCRIPTION:<a href='/agenda/2026/7/10/stervensbegeleiding-bardo-thodol--75077'>/agenda/2026/7/10/stervensbegeleiding-bardo-thodol--75077</a> || <p>Tweewekelijkse workshop in de Tibetaans Boeddhistische Tempel Karma Eusel Ling. Check altijd even telefonisch datum en tijd! Bewuste begeleiding bij het sterven en de dood onder leiding van Lama Karma Tcheudjoeng.<br />De objectieve en subjectieve beleving van het stervensproces en onze eigen leegte begrijpen en de esssentie van ons ‘zijn’ herkennen.<br />Dit vraagt een diepere kennis en inzicht. Geleerd wordt om de emotie en de tijdsduur van het stervensproces en de naderende dood op een juiste manier te doorleven. Het loslaten van het leven en geruststellen om zonder angst het stervensproces te ondergaan. Ook het loslaten van ons mens-zijn en het herkennen van het heldere licht van ons ‘oorspronkelijk leven’ dat we zijn, is na ons overlijden cruciaal. Op deze wijze iemand te ondersteunen naar de overgave; het bewust worden van het ware wezen dat we zijn en de oorspronkelijke geest in het Heldere Licht, de ware aard van onze transcendente natuur, herkennen. Zo de stervende een waardevolle voorbereiding en ondersteuning naar de dood te kunnen bieden. Deze cursus Stervensbegeleiding is gebaseerd op Het Tibetaans Dodenboek van W.Y. Evans-Wentz en het door Sogyal Rinpoche geschreven Het Tibetaanse boek van Leven en Sterven. Geïnspireerd en begeleid is het essentieel voor het begrip in ons zelf.</p><p>Meer informatie vind je op <a href="//www.karmaeuselling.nl">www.karmaeuselling.nl</a>.</p>
LAST-MODIFIED:20260424T165653Z
LOCATION: Tibetaans Boeddhistische Tempel Karma Eusel Ling Vorstenbosch  | Heuvel 1 Vorstenbosch
SEQUENCE:0
STATUS:CONFIRMED
SUMMARY:Stervensbegeleiding (Bardo Thödol)
TRANSP:OPAQUE
END:VEVENT
END:VCALENDAR
