BEGIN:VCALENDAR
PRODID:-//PUBBLE//agenda//NL
VERSION:2.0
METHOD:PUBLISH
BEGIN:VEVENT
DTSTART:20260706T180000Z
DTEND:20260706T193000Z
DTSTAMP:20260424T184422Z
UID:d3debcba-befc-4026-99ab-208fc58333b8
CREATED:20260424T184422Z
NAME:Pudja Visualisatie Meditatie mooibernheze.nl
X-WR-CALNAME:Pudja Visualisatie Meditatie
X-ALT-DESC;FMTTYPE=text/html:<a href='/agenda/2026/7/6/pudja-visualisatie-meditatie-75035'>/agenda/2026/7/6/pudja-visualisatie-meditatie-75035</a> || <p>Tweewekelijkse praktijk op maandagavond in de Tibetaans Boeddhistische Tempel Karma Eusel Ling onder leiding van Lama Karma Tcheudjoeng. Data en tijden altijd even telefonisch checken!<br />Door middel van deze praktijk versterken we onze innerlijke mogelijkheden om een beter beeld van het samsarische en mystieke bestaan te verkrijgen. Vanuit innerlijke kracht beoefenen we het reciteren, visualiseren en de gezangen die verbonden zijn met verschillende Boeddha-vormen en Arats-Bodhisattva’s, Dakini’s en Dhyana’s. Dan ervaren we prikkels van het samsarische en mystieke bestaan waarin wij leven, niet als lijden maar als een wet van oorzaak en gevolg. Dat leert ons inzicht in onszelf. Dan volgt het belang voor het bewust worden door liefde en mededogen vanuit de Boeddha Tchenrezig. Deze Boeddha staat de Dalai Lama het dichtst bij, evenals Lama Karta. Dit is een zeer bevorderende praktijk in de geestelijke groei van eenieder, zeer geliefd in Tibet.</p><p>Voor meer informatie kijk je op <a href="//www.karmaeuselling.nl">www.karmaeuselling.nl</a>.</p>
DESCRIPTION:<a href='/agenda/2026/7/6/pudja-visualisatie-meditatie-75035'>/agenda/2026/7/6/pudja-visualisatie-meditatie-75035</a> || <p>Tweewekelijkse praktijk op maandagavond in de Tibetaans Boeddhistische Tempel Karma Eusel Ling onder leiding van Lama Karma Tcheudjoeng. Data en tijden altijd even telefonisch checken!<br />Door middel van deze praktijk versterken we onze innerlijke mogelijkheden om een beter beeld van het samsarische en mystieke bestaan te verkrijgen. Vanuit innerlijke kracht beoefenen we het reciteren, visualiseren en de gezangen die verbonden zijn met verschillende Boeddha-vormen en Arats-Bodhisattva’s, Dakini’s en Dhyana’s. Dan ervaren we prikkels van het samsarische en mystieke bestaan waarin wij leven, niet als lijden maar als een wet van oorzaak en gevolg. Dat leert ons inzicht in onszelf. Dan volgt het belang voor het bewust worden door liefde en mededogen vanuit de Boeddha Tchenrezig. Deze Boeddha staat de Dalai Lama het dichtst bij, evenals Lama Karta. Dit is een zeer bevorderende praktijk in de geestelijke groei van eenieder, zeer geliefd in Tibet.</p><p>Voor meer informatie kijk je op <a href="//www.karmaeuselling.nl">www.karmaeuselling.nl</a>.</p>
LAST-MODIFIED:20260424T184422Z
LOCATION: Tibetaans Boeddhistische Tempel Karma Eusel Ling Vorstenbosch  | Heuvel 1 Vorstenbosch
SEQUENCE:0
STATUS:CONFIRMED
SUMMARY:Pudja Visualisatie Meditatie
TRANSP:OPAQUE
END:VEVENT
END:VCALENDAR
